BEGIN:VCALENDAR
VERSION:2.0
PRODID:-//Sabre//Sabre VObject 4.5.8//EN
CALSCALE:GREGORIAN
LAST-MODIFIED:20231018T100053Z
BEGIN:VTIMEZONE
TZID:Etc/UTC
BEGIN:STANDARD
DTSTART:20221022T150000
TZOFFSETFROM:+0000
TZOFFSETTO:+0000
TZNAME:UTC
END:STANDARD
END:VTIMEZONE
BEGIN:VEVENT
UID:d9bf82f9-57b3-4b9d-9e15-4662258de081
DTSTAMP:20231018T100053Z
SUMMARY:WebRTC WG October 2023 call
DTSTART;TZID=Etc/UTC:20231017T150000
DTEND;TZID=Etc/UTC:20231017T170000
DESCRIPTION:https://www.w3.org/events/meetings/d9bf82f9-57b3-4b9d-9e15-4662
 258de081/\n\n\n\nAgenda: https://www.w3.org/2011/04/webrtc/wiki/October_17
 _2023
STATUS:CONFIRMED
CREATED:20230424T064811Z
LAST-MODIFIED:20231018T100053Z
SEQUENCE:1
ORGANIZER;CN=W3C Calendar;PARTSTAT=ACCEPTED;ROLE=NON-PARTICIPANT:mailto:nor
 eply@w3.org
ATTENDEE;CUTYPE=GROUP;ROLE=OPT-PARTICIPANT;RSVP=FALSE;CN=Web Real-Time Comm
 unications Working Group:mailto:public-webrtc@w3.org
END:VEVENT
END:VCALENDAR
