BEGIN:VCALENDAR
VERSION:2.0
PRODID:-//Sabre//Sabre VObject 4.5.8//EN
CALSCALE:GREGORIAN
LAST-MODIFIED:20240924T191116Z
BEGIN:VTIMEZONE
TZID:America/Los_Angeles
X-MICROSOFT-CDO-TZID:13
BEGIN:STANDARD
DTSTART:20231105T090000
TZOFFSETFROM:-0700
TZOFFSETTO:-0800
TZNAME:PST
END:STANDARD
BEGIN:STANDARD
DTSTART:20241103T090000
TZOFFSETFROM:-0700
TZOFFSETTO:-0800
TZNAME:PST
END:STANDARD
BEGIN:DAYLIGHT
DTSTART:20240310T100000
TZOFFSETFROM:-0800
TZOFFSETTO:-0700
TZNAME:PDT
END:DAYLIGHT
END:VTIMEZONE
BEGIN:VEVENT
UID:d7c84e8e-db2f-4c8d-8047-40b69f848807
DTSTAMP:20240924T191116Z
SUMMARY:WebView Community Group
DTSTART;TZID=America/Los_Angeles:20240924T090000
DTEND;TZID=America/Los_Angeles:20240924T123000
DESCRIPTION:https://www.w3.org/events/meetings/d7c84e8e-db2f-4c8d-8047-40b6
 9f848807/\n\n\n\nAgenda: https://github.com/orgs/WebView-CG/discussions/5#
 discussioncomment-10336140
STATUS:CONFIRMED
CREATED:20240614T163456Z
LAST-MODIFIED:20240924T191116Z
SEQUENCE:8
ORGANIZER;CN=W3C Calendar;PARTSTAT=ACCEPTED;ROLE=NON-PARTICIPANT:mailto:nor
 eply@w3.org
ATTENDEE;CUTYPE=GROUP;ROLE=OPT-PARTICIPANT;RSVP=FALSE;CN=WebView Community 
 Group:mailto:public-webview@w3.org
LOCATION:-1 Lower Level - Catalina 1
CATEGORIES:TPAC 2024,Group Meetings
END:VEVENT
END:VCALENDAR
