BEGIN:VCALENDAR
VERSION:2.0
PRODID:-//Sabre//Sabre VObject 4.5.8//EN
CALSCALE:GREGORIAN
LAST-MODIFIED:20211104T224902Z
BEGIN:VTIMEZONE
TZID:America/Los_Angeles
X-MICROSOFT-CDO-TZID:13
BEGIN:DAYLIGHT
DTSTART:20210314T100000
TZOFFSETFROM:-0800
TZOFFSETTO:-0700
TZNAME:PDT
END:DAYLIGHT
BEGIN:DAYLIGHT
DTSTART:20220313T100000
TZOFFSETFROM:-0800
TZOFFSETTO:-0700
TZNAME:PDT
END:DAYLIGHT
BEGIN:STANDARD
DTSTART:20211107T090000
TZOFFSETFROM:-0700
TZOFFSETTO:-0800
TZNAME:PST
END:STANDARD
END:VTIMEZONE
BEGIN:VEVENT
UID:d7bbce8f-549f-46ea-b440-ea6902f8707c
DTSTAMP:20211104T224902Z
SUMMARY:WebExtensions CG
DTSTART;TZID=America/Los_Angeles:20220303T080000
DTEND;TZID=America/Los_Angeles:20220303T090000
DESCRIPTION:https://www.w3.org/events/meetings/d7bbce8f-549f-46ea-b440-ea69
 02f8707c/20220303T080000/\n\nThe WebExtensions Community group meets virtu
 ally every other week for one hour to discuss issues of interest to the gr
 oup. These meetings are supplementary to the ongoing conversations in the 
 issue tracker.\n\nAgenda: https://docs.google.com/document/d/1QkwhEMtMS67J
 BUkl_WVPZ4lRSKoWcQNlLJSf_GwSXg8\n\nAgenda\n\nGithub issues: https://github
 .com/w3c/webextensions/issues\nAgenda: https://docs.google.com/document/d/
 1QkwhEMtMS67JBUkl_WVPZ4lRSKoWcQNlLJSf_GwSXg8\n\nPlease add yourself at the
  bottom of the Queue section if you have a discussion point.
STATUS:CONFIRMED
CREATED:20211104T224900Z
LAST-MODIFIED:20211104T224902Z
SEQUENCE:2
ORGANIZER;CN=W3C Calendar;PARTSTAT=ACCEPTED;ROLE=NON-PARTICIPANT:mailto:nor
 eply@w3.org
ATTENDEE;CUTYPE=GROUP;ROLE=OPT-PARTICIPANT;RSVP=FALSE;CN=WebExtensions Comm
 unity Group:mailto:public-webextensions@w3.org
RECURRENCE-ID;TZID=America/Los_Angeles:20220303T080000
END:VEVENT
END:VCALENDAR
