BEGIN:VCALENDAR
VERSION:2.0
PRODID:-//Sabre//Sabre VObject 4.5.8//EN
CALSCALE:GREGORIAN
LAST-MODIFIED:20250306T192040Z
BEGIN:VTIMEZONE
TZID:Etc/UTC
BEGIN:STANDARD
DTSTART:20240325T170000
TZOFFSETFROM:+0000
TZOFFSETTO:+0000
TZNAME:UTC
END:STANDARD
END:VTIMEZONE
BEGIN:VEVENT
UID:d7978c34-cbd8-4ad3-97cd-0d3dbb00beac
DTSTAMP:20250306T192040Z
SUMMARY:Publishing Community Group: From Principles to Practice - Responsib
 le AI for Enhanced Student Engagement in Reading Systems
DTSTART;TZID=Etc/UTC:20250320T170000
DTEND;TZID=Etc/UTC:20250320T180000
DESCRIPTION:https://www.w3.org/events/meetings/d7978c34-cbd8-4ad3-97cd-0d3d
 bb00beac/\n\nThis presentation will explore VitalSource's journey implemen
 ting AI in their eTextbook reading system\,  with a focus on how thoughtfu
 l\, principled use of AI can enhance student engagement with higher ed cou
 rse materials. Nick Brown\, VP Product\, will share insights from VitalSou
 rce's experience building _Bookshelf CoachMe_\, an award-winning AI-powere
 d feature that has been shown to triple student engagement with their text
 books and improve learning outcomes.\n\nNick will outline the learning sci
 ence foundations that guide their AI development\, their approach to balan
 cing publisher rights and concerns with innovation\, and lessons learned f
 rom years of research and implementation. Nick will also discuss their AI 
 principles framework\, which ensures their technology remains ethical\, tr
 ansparent\, and centered on improving educational outcomes rather than sim
 ply deploying AI for its own sake. The session will conclude with open Q&A
  regarding the future landscape of AI in educational content and reading s
 ystems.
STATUS:CONFIRMED
CREATED:20250306T191752Z
LAST-MODIFIED:20250306T192040Z
SEQUENCE:0
ORGANIZER;CN=W3C Calendar;PARTSTAT=ACCEPTED;ROLE=NON-PARTICIPANT:mailto:nor
 eply@w3.org
ATTENDEE;CUTYPE=GROUP;ROLE=OPT-PARTICIPANT;RSVP=FALSE;CN=Publishing Busines
 s Group:mailto:public-publishingbg@w3.org
ATTENDEE;CUTYPE=GROUP;ROLE=OPT-PARTICIPANT;RSVP=FALSE;CN=Publishing Communi
 ty Group:mailto:public-publishingcg@w3.org
ATTENDEE;CUTYPE=GROUP;ROLE=OPT-PARTICIPANT;RSVP=FALSE;CN=Publishing Mainten
 ance Working Group:mailto:public-pm-wg@w3.org
END:VEVENT
END:VCALENDAR
