BEGIN:VCALENDAR
VERSION:2.0
PRODID:-//Sabre//Sabre VObject 4.5.8//EN
CALSCALE:GREGORIAN
LAST-MODIFIED:20230130T180747Z
BEGIN:VTIMEZONE
TZID:Etc/UTC
BEGIN:STANDARD
DTSTART:20220206T170000
TZOFFSETFROM:+0000
TZOFFSETTO:+0000
TZNAME:UTC
END:STANDARD
END:VTIMEZONE
BEGIN:VEVENT
UID:d76bd2ba-5f59-4ca7-8f83-bad717e2cfa3
DTSTAMP:20230130T180747Z
SUMMARY:WebView Community Group
DTSTART;TZID=Etc/UTC:20230201T170000
DTEND;TZID=Etc/UTC:20230201T180000
DESCRIPTION:https://www.w3.org/events/meetings/d76bd2ba-5f59-4ca7-8f83-bad7
 17e2cfa3/\n\nTeleconference for the WebView Community Group\, which aims t
 o identify\, understand and reduce the issues arising from the use of WebV
 iews to render Web technology-based content outside of a Web browser (Nati
 ve Apps\, MiniApps\, etc).\n\nThe meeting will primarily focus on discussi
 ng the solutions space (https://github.com/WebView-CG/explainers) and go o
 ver community submissions.\n\nAgenda\n\n- Go over new explainers repo (htt
 ps://github.com/WebView-CG/explainers)\n- Discuss community submissions
STATUS:CONFIRMED
CREATED:20230130T180716Z
LAST-MODIFIED:20230130T180747Z
SEQUENCE:1
ORGANIZER;CN=W3C Calendar;PARTSTAT=ACCEPTED;ROLE=NON-PARTICIPANT:mailto:nor
 eply@w3.org
ATTENDEE;CUTYPE=GROUP;ROLE=OPT-PARTICIPANT;RSVP=FALSE;CN=WebView Community 
 Group:mailto:public-webview@w3.org
END:VEVENT
END:VCALENDAR
