BEGIN:VCALENDAR
VERSION:2.0
PRODID:-//Sabre//Sabre VObject 4.5.8//EN
CALSCALE:GREGORIAN
LAST-MODIFIED:20250320T160026Z
BEGIN:VTIMEZONE
TZID:America/New_York
X-MICROSOFT-CDO-TZID:10
BEGIN:STANDARD
DTSTART:20241103T060000
TZOFFSETFROM:-0400
TZOFFSETTO:-0500
TZNAME:EST
END:STANDARD
BEGIN:STANDARD
DTSTART:20251102T060000
TZOFFSETFROM:-0400
TZOFFSETTO:-0500
TZNAME:EST
END:STANDARD
BEGIN:DAYLIGHT
DTSTART:20250309T070000
TZOFFSETFROM:-0500
TZOFFSETTO:-0400
TZNAME:EDT
END:DAYLIGHT
END:VTIMEZONE
BEGIN:VEVENT
UID:d6a33d7f-adc8-4898-8afc-c062a6988bdd
DTSTAMP:20250320T160026Z
SUMMARY:Privacy Working Group 3rd-thursday
DTSTART;TZID=America/New_York:20250320T120000
DTEND;TZID=America/New_York:20250320T130000
DESCRIPTION:https://www.w3.org/events/meetings/d6a33d7f-adc8-4898-8afc-c062
 a6988bdd/20250320T120000/\n\n\n\nAgenda: https://github.com/w3c/privacywg/
 issues/8#issue-2866836014\n\nAgenda\n\n1. Introductions\, Code of Conduct\
 n1. report out / follow-ups from W3C North American Member meeting\n2. [up
 dates to User considerations for credentials on the Web](https://github.co
 m/w3c/credential-considerations/pulls)\n3. [privacy horizontal review dash
 board](https://www.w3.org/PM/horizontal/board.html?name=Privacy) and priva
 cy reviews status\n4. GPC:\n  * status of PRs (most already reviewed\, rea
 dy to merge)\n  * if time permits\, https://github.com/w3c/gpc/issues/52\n
 6. mitigating browser fingerprinting:\n* merging PRs and process for revie
 wing\n7. AOB
STATUS:CONFIRMED
CREATED:20250319T205041Z
LAST-MODIFIED:20250320T160026Z
SEQUENCE:10
ORGANIZER;CN=W3C Calendar;PARTSTAT=ACCEPTED;ROLE=NON-PARTICIPANT:mailto:nor
 eply@w3.org
ATTENDEE;CUTYPE=GROUP;ROLE=OPT-PARTICIPANT;RSVP=FALSE;CN=Privacy Working Gr
 oup:mailto:public-privacy@w3.org
RECURRENCE-ID;TZID=America/New_York:20250320T120000
END:VEVENT
END:VCALENDAR
