BEGIN:VCALENDAR
VERSION:2.0
PRODID:-//Sabre//Sabre VObject 4.5.8//EN
CALSCALE:GREGORIAN
LAST-MODIFIED:20250220T162001Z
BEGIN:VTIMEZONE
TZID:America/New_York
X-MICROSOFT-CDO-TZID:10
BEGIN:DAYLIGHT
DTSTART:20240310T070000
TZOFFSETFROM:-0500
TZOFFSETTO:-0400
TZNAME:EDT
END:DAYLIGHT
BEGIN:DAYLIGHT
DTSTART:20250309T070000
TZOFFSETFROM:-0500
TZOFFSETTO:-0400
TZNAME:EDT
END:DAYLIGHT
BEGIN:STANDARD
DTSTART:20241103T060000
TZOFFSETFROM:-0400
TZOFFSETTO:-0500
TZNAME:EST
END:STANDARD
END:VTIMEZONE
BEGIN:VEVENT
UID:d6a33d7f-adc8-4898-8afc-c062a6988bdd
DTSTAMP:20250220T162001Z
SUMMARY:Privacy Working Group 3rd-thursday
DTSTART;TZID=America/New_York:20250220T120000
DTEND;TZID=America/New_York:20250220T130000
DESCRIPTION:https://www.w3.org/events/meetings/d6a33d7f-adc8-4898-8afc-c062
 a6988bdd/20250220T120000/\n\nNot a formal meeting\, but using the time slo
 t for those available to discuss the Privacy Principles proposed changes.\
 n\nAgenda: https://github.com/w3c/privacywg/labels/agenda\n\nAgenda\n\n###
  1. Introductions\, Code of Conduct\n\nhttps://www.w3.org/policies/code-of
 -conduct/ \n\n\n### 2. Privacy Principles proposed changes
STATUS:CONFIRMED
CREATED:20250220T162001Z
LAST-MODIFIED:20250220T162001Z
SEQUENCE:9
ORGANIZER;CN=W3C Calendar;PARTSTAT=ACCEPTED;ROLE=NON-PARTICIPANT:mailto:nor
 eply@w3.org
ATTENDEE;CUTYPE=GROUP;ROLE=OPT-PARTICIPANT;RSVP=FALSE;CN=Privacy Working Gr
 oup:mailto:public-privacy@w3.org
RECURRENCE-ID;TZID=America/New_York:20250220T120000
END:VEVENT
END:VCALENDAR
