BEGIN:VCALENDAR
VERSION:2.0
PRODID:-//Sabre//Sabre VObject 4.5.8//EN
CALSCALE:GREGORIAN
LAST-MODIFIED:20250114T222347Z
BEGIN:VTIMEZONE
TZID:America/New_York
X-MICROSOFT-CDO-TZID:10
BEGIN:DAYLIGHT
DTSTART:20240310T070000
TZOFFSETFROM:-0500
TZOFFSETTO:-0400
TZNAME:EDT
END:DAYLIGHT
BEGIN:DAYLIGHT
DTSTART:20250309T070000
TZOFFSETFROM:-0500
TZOFFSETTO:-0400
TZNAME:EDT
END:DAYLIGHT
BEGIN:STANDARD
DTSTART:20241103T060000
TZOFFSETFROM:-0400
TZOFFSETTO:-0500
TZNAME:EST
END:STANDARD
END:VTIMEZONE
BEGIN:VEVENT
UID:d6a33d7f-adc8-4898-8afc-c062a6988bdd
DTSTAMP:20250114T222347Z
SUMMARY:Privacy Working Group 3rd-thursday
DTSTART;TZID=America/New_York:20250116T120000
DTEND;TZID=America/New_York:20250116T130000
DESCRIPTION:https://www.w3.org/events/meetings/d6a33d7f-adc8-4898-8afc-c062
 a6988bdd/20250116T120000/\n\n\n\nAgenda: https://github.com/w3c/privacywg/
 labels/agenda\n\nAgenda\n\n1. Introductions\, Code of Conduct\n    * using
  w3c etherpad for minutes and queueing: https://pad.w3.org/p/privacywg-liv
 e-minutes\n1. [Mitigating Browser Fingerprinting](https://github.com/w3c/f
 ingerprinting-guidance)\n    * status update\, ready to start publishing a
 s Working Group Note?\n1. Privacy reviews: in progress or help needed\n   
  * Verifiable Credentials prior to Rec transition\n    * WebRTC amendments
 \n    * group charters that may be of interest\n1. GPC\n    * [privacy and
  security considerations](https://github.com/w3c/gpc/pull/89)\n    * [over
 riding consent](https://github.com/w3c/gpc/pull/88)\n    * [ready to start
  publishing the Explainer?](https://github.com/w3c/gpc/pull/90)\n    * if 
 time\, [handling private browsing mode](https://github.com/w3c/gpc/issues/
 34)\n1. AOB
STATUS:CONFIRMED
CREATED:20250114T222347Z
LAST-MODIFIED:20250114T222347Z
SEQUENCE:9
ORGANIZER;CN=W3C Calendar;PARTSTAT=ACCEPTED;ROLE=NON-PARTICIPANT:mailto:nor
 eply@w3.org
ATTENDEE;CUTYPE=GROUP;ROLE=OPT-PARTICIPANT;RSVP=FALSE;CN=Privacy Working Gr
 oup:mailto:public-privacy@w3.org
RECURRENCE-ID;TZID=America/New_York:20250116T120000
END:VEVENT
END:VCALENDAR
