BEGIN:VCALENDAR
VERSION:2.0
PRODID:-//Sabre//Sabre VObject 4.5.8//EN
CALSCALE:GREGORIAN
LAST-MODIFIED:20210518T174250Z
BEGIN:VTIMEZONE
TZID:America/New_York
X-MICROSOFT-CDO-TZID:10
BEGIN:STANDARD
DTSTART:20201101T060000
TZOFFSETFROM:-0400
TZOFFSETTO:-0500
TZNAME:EST
END:STANDARD
BEGIN:STANDARD
DTSTART:20211107T060000
TZOFFSETFROM:-0400
TZOFFSETTO:-0500
TZNAME:EST
END:STANDARD
BEGIN:DAYLIGHT
DTSTART:20210314T070000
TZOFFSETFROM:-0500
TZOFFSETTO:-0400
TZNAME:EDT
END:DAYLIGHT
END:VTIMEZONE
BEGIN:VEVENT
UID:d60e51c5-3b31-4e02-a75c-01f877be183a
DTSTAMP:20210518T174250Z
SUMMARY:Privacy CG Virtual F2F
DTSTART;TZID=America/New_York:20210519T110000
DTEND;TZID=America/New_York:20210519T150000
DESCRIPTION:https://www.w3.org/events/meetings/d60e51c5-3b31-4e02-a75c-01f8
 77be183a/20210519T110000/\n\nhttps://github.com/privacycg/meetings/tree/ma
 in/2021/05-virtual
STATUS:CONFIRMED
CREATED:20210518T174250Z
LAST-MODIFIED:20210518T174250Z
SEQUENCE:0
ORGANIZER;CN=W3C Calendar;PARTSTAT=ACCEPTED;ROLE=NON-PARTICIPANT:mailto:nor
 eply@w3.org
ATTENDEE;CUTYPE=GROUP;ROLE=OPT-PARTICIPANT;RSVP=FALSE;CN=Privacy Community 
 Group:mailto:public-privacycg@w3.org
RECURRENCE-ID;TZID=America/New_York:20210519T110000
END:VEVENT
END:VCALENDAR
