BEGIN:VCALENDAR
VERSION:2.0
PRODID:-//Sabre//Sabre VObject 4.5.8//EN
CALSCALE:GREGORIAN
LAST-MODIFIED:20211116T153813Z
BEGIN:VTIMEZONE
TZID:Europe/Brussels
BEGIN:DAYLIGHT
DTSTART:20210328T010000
TZOFFSETFROM:+0100
TZOFFSETTO:+0200
TZNAME:CEST
END:DAYLIGHT
BEGIN:DAYLIGHT
DTSTART:20220327T010000
TZOFFSETFROM:+0100
TZOFFSETTO:+0200
TZNAME:CEST
END:DAYLIGHT
BEGIN:STANDARD
DTSTART:20211031T010000
TZOFFSETFROM:+0200
TZOFFSETTO:+0100
TZNAME:CET
END:STANDARD
END:VTIMEZONE
BEGIN:VEVENT
UID:d4e69d32-05e5-48e5-a42f-b89518b695d3
DTSTAMP:20211116T153813Z
SUMMARY:Open Athletics Monthly Meeting
DTSTART;TZID=Europe/Brussels:20220124T100000
DTEND;TZID=Europe/Brussels:20220124T110000
DESCRIPTION:https://www.w3.org/events/meetings/d4e69d32-05e5-48e5-a42f-b895
 18b695d3/20220124T100000/\n\nRecurring meeting every four weeks. Feel free
  to propose topics using the mailing list. \n\nCheck the connection detail
 s and agenda at https://github.com/w3c/opentrack-cg/wiki/Meetings\n\nAgend
 a: https://github.com/w3c/opentrack-cg/wiki/Meetings\n\nAgenda\n\nThe agen
 da will be posted before the meeting. Feel free to suggest topics for disc
 ussion.
STATUS:CANCELLED
CREATED:20210921T072049Z
LAST-MODIFIED:20211116T153813Z
SEQUENCE:2
ORGANIZER;CN=W3C Calendar;PARTSTAT=ACCEPTED;ROLE=NON-PARTICIPANT:mailto:nor
 eply@w3.org
ATTENDEE;CUTYPE=GROUP;ROLE=OPT-PARTICIPANT;RSVP=FALSE;CN=OpenTrack Communit
 y Group:mailto:public-opentrack@w3.org
LOCATION:https://meet.jit.si/openathletics
RECURRENCE-ID;TZID=Europe/Brussels:20220124T100000
END:VEVENT
END:VCALENDAR
