BEGIN:VCALENDAR
VERSION:2.0
PRODID:-//Sabre//Sabre VObject 4.5.8//EN
CALSCALE:GREGORIAN
LAST-MODIFIED:20240828T124649Z
BEGIN:VTIMEZONE
TZID:Etc/UTC
BEGIN:STANDARD
DTSTART:20230911T130000
TZOFFSETFROM:+0000
TZOFFSETTO:+0000
TZNAME:UTC
END:STANDARD
END:VTIMEZONE
BEGIN:VEVENT
UID:d4b94c90-4da3-4cc9-980d-6332b49333e2
DTSTAMP:20240828T124649Z
SUMMARY:Board Finance Committee
DTSTART;TZID=Etc/UTC:20240905T130000
DTEND;TZID=Etc/UTC:20240905T140000
DESCRIPTION:https://www.w3.org/events/meetings/d4b94c90-4da3-4cc9-980d-6332
 b49333e2/\n\n
STATUS:TENTATIVE
CREATED:20240828T124649Z
LAST-MODIFIED:20240828T124649Z
SEQUENCE:0
ORGANIZER;CN=W3C Calendar;PARTSTAT=ACCEPTED;ROLE=NON-PARTICIPANT:mailto:nor
 eply@w3.org
ATTENDEE;CUTYPE=GROUP;ROLE=OPT-PARTICIPANT;RSVP=FALSE;CN=Board Finance Comm
 ittee:mailto:board-finance@w3.org
ATTENDEE;CUTYPE=GROUP;ROLE=OPT-PARTICIPANT;RSVP=FALSE;CN=Board of Directors
 :mailto:board@w3.org
END:VEVENT
END:VCALENDAR
