BEGIN:VCALENDAR
VERSION:2.0
PRODID:-//Sabre//Sabre VObject 4.5.8//EN
CALSCALE:GREGORIAN
LAST-MODIFIED:20231206T023643Z
BEGIN:VTIMEZONE
TZID:America/New_York
X-MICROSOFT-CDO-TZID:10
BEGIN:DAYLIGHT
DTSTART:20230312T070000
TZOFFSETFROM:-0500
TZOFFSETTO:-0400
TZNAME:EDT
END:DAYLIGHT
BEGIN:DAYLIGHT
DTSTART:20240310T070000
TZOFFSETFROM:-0500
TZOFFSETTO:-0400
TZNAME:EDT
END:DAYLIGHT
BEGIN:STANDARD
DTSTART:20231105T060000
TZOFFSETFROM:-0400
TZOFFSETTO:-0500
TZNAME:EST
END:STANDARD
END:VTIMEZONE
BEGIN:VEVENT
UID:d4a2e99e-71a4-49e6-bf29-980a485088aa
DTSTAMP:20231206T023643Z
SUMMARY:Web Authentication weekly
DTSTART;TZID=America/New_York:20231206T140000
DTEND;TZID=America/New_York:20231206T150000
DESCRIPTION:https://www.w3.org/events/meetings/d4a2e99e-71a4-49e6-bf29-980a
 485088aa/20231206T140000/\n\n(canceled)
STATUS:CANCELLED
CREATED:20231129T201839Z
LAST-MODIFIED:20231206T023643Z
SEQUENCE:3
ORGANIZER;CN=W3C Calendar;PARTSTAT=ACCEPTED;ROLE=NON-PARTICIPANT:mailto:nor
 eply@w3.org
ATTENDEE;CUTYPE=GROUP;ROLE=OPT-PARTICIPANT;RSVP=FALSE;CN=Web Authentication
  Working Group:mailto:public-webauthn@w3.org
RECURRENCE-ID;TZID=America/New_York:20231206T140000
END:VEVENT
END:VCALENDAR
