BEGIN:VCALENDAR
VERSION:2.0
PRODID:-//Sabre//Sabre VObject 4.5.8//EN
CALSCALE:GREGORIAN
LAST-MODIFIED:20240925T031120Z
BEGIN:VTIMEZONE
TZID:America/Los_Angeles
X-MICROSOFT-CDO-TZID:13
BEGIN:STANDARD
DTSTART:20231105T090000
TZOFFSETFROM:-0700
TZOFFSETTO:-0800
TZNAME:PST
END:STANDARD
BEGIN:STANDARD
DTSTART:20241103T090000
TZOFFSETFROM:-0700
TZOFFSETTO:-0800
TZNAME:PST
END:STANDARD
BEGIN:DAYLIGHT
DTSTART:20240310T100000
TZOFFSETFROM:-0800
TZOFFSETTO:-0700
TZNAME:PDT
END:DAYLIGHT
END:VTIMEZONE
BEGIN:VEVENT
UID:d33f09f9-a171-452e-8998-1c5130669f97
DTSTAMP:20240925T031120Z
SUMMARY:Hackathon @ TPAC 2024
DTSTART;TZID=America/Los_Angeles:20240924T203000
DTEND;TZID=America/Los_Angeles:20240924T223000
DESCRIPTION:https://www.w3.org/events/meetings/d33f09f9-a171-452e-8998-1c51
 30669f97/\n\nJoin us for the TPAC Hackathon! It’s going to be a fun\, lo
 w-key evening with an HTML/CSS challenge where you can show off your codin
 g skills\, get creative\, and win some nerdy prizes. Snacks are included\,
  and it’s a great chance to take a break\, meet new people\, and enjoy a
  little friendly competition.\nAll skills and abilities welcome. We only h
 ave space for 30 people\, so make sure to sign up early if you want to joi
 n. This is an in-person event.\nMore information here: https://www.w3.org/
 2024/09/TPAC/hackathon/
STATUS:CONFIRMED
CREATED:20240918T210744Z
LAST-MODIFIED:20240925T031120Z
SEQUENCE:3
ORGANIZER;CN=W3C Calendar;PARTSTAT=ACCEPTED;ROLE=NON-PARTICIPANT:mailto:nor
 eply@w3.org
LOCATION:4 Concourse Level - Huntington
CATEGORIES:TPAC 2024
END:VEVENT
END:VCALENDAR
