BEGIN:VCALENDAR
VERSION:2.0
PRODID:-//Sabre//Sabre VObject 4.5.8//EN
CALSCALE:GREGORIAN
LAST-MODIFIED:20230222T091726Z
BEGIN:VTIMEZONE
TZID:Europe/Berlin
X-MICROSOFT-CDO-TZID:4
BEGIN:DAYLIGHT
DTSTART:20220327T010000
TZOFFSETFROM:+0100
TZOFFSETTO:+0200
TZNAME:CEST
END:DAYLIGHT
BEGIN:DAYLIGHT
DTSTART:20230326T010000
TZOFFSETFROM:+0100
TZOFFSETTO:+0200
TZNAME:CEST
END:DAYLIGHT
BEGIN:STANDARD
DTSTART:20221030T010000
TZOFFSETFROM:+0200
TZOFFSETTO:+0100
TZNAME:CET
END:STANDARD
END:VTIMEZONE
BEGIN:VEVENT
UID:d29a941e-0bc3-4a2c-abaa-1f711a0ea9a2
DTSTAMP:20230222T091726Z
SUMMARY:WoT CG Meetup 4 - Security
DTSTART;TZID=Europe/Berlin:20230223T160000
DTEND;TZID=Europe/Berlin:20230223T170000
DESCRIPTION:https://www.w3.org/events/meetings/d29a941e-0bc3-4a2c-abaa-1f71
 1a0ea9a2/\n\nIn this W3C WoT CG Meetup\, Jan Romann\, Invited Expert at th
 e WoT WG\, will present an approach that allows constrained IoT devices to
  delegate authentication and authorization using the Web of Things.\nIn th
 e framework of the NAMIB project\, he will demonstrate this approach in a 
 use case where hotel guests need to have access to their smart environment
 s only during their visits.\nAdditionally\, an open-source WoT implementat
 ion based on the Dart programming language will be shown\, which allows Wo
 T Consumers to be deployed on smartphones.\nAfter the presentation\, we wi
 ll have an open discussion on security in the Web of Things.\n\nP.S.: The 
 use case also uses the wot-td Rust crate running in an ESP Thing\, showing
  interoperability between different WoT implementations.\n\nAgenda\n\n- In
 troduction of the speaker\n- Authentication and Authorization of Constrain
 ed Devices in the Web of Things\n- Q&A Session\n- Discussion on Security i
 n the Web of Things\n\nJoining Instructions: https://teams.microsoft.com/l
 /meetup-join/19%3ameeting_ZjMyZWE2M2YtZDQyZi00OTk0LWI1Y2UtMjczYmUzMjAxNGQ4
 %40thread.v2/0?context=%7b%22Tid%22%3a%2238ae3bcd-9579-4fd4-adda-b42e1495d
 55a%22%2c%22Oid%22%3a%22d4a09f25-e37d-4f6d-95cf-a8c302d7e2d2%22%7d\n\nJoin
 ing Instructions\n\nIf the direct link does not work:\n\nGo to: https://ww
 w.microsoft.com/en-us/microsoft-teams/join-a-meeting\nMeeting ID: 337 013 
 228 187\nPassword: K2UNrN\n\nFull link: https://teams.microsoft.com/l/meet
 up-join/19%3ameeting_ZjMyZWE2M2YtZDQyZi00OTk0LWI1Y2UtMjczYmUzMjAxNGQ4%40th
 read.v2/0?context=%7b%22Tid%22%3a%2238ae3bcd-9579-4fd4-adda-b42e1495d55a%2
 2%2c%22Oid%22%3a%22d4a09f25-e37d-4f6d-95cf-a8c302d7e2d2%22%7d
STATUS:CONFIRMED
CREATED:20230209T170226Z
LAST-MODIFIED:20230222T091726Z
SEQUENCE:1
ORGANIZER;CN=W3C Calendar;PARTSTAT=ACCEPTED;ROLE=NON-PARTICIPANT:mailto:nor
 eply@w3.org
ATTENDEE;CUTYPE=GROUP;ROLE=OPT-PARTICIPANT;RSVP=FALSE;CN=Web of Things Comm
 unity Group:mailto:public-web-of-things@w3.org
ATTENDEE;CN=Julien HOLTZER:mailto:jholtzer@x-pert.fr
ATTENDEE;CN=Sandro Kock:mailto:sandro.kock@gmail.com
END:VEVENT
END:VCALENDAR
