BEGIN:VCALENDAR
VERSION:2.0
PRODID:-//Sabre//Sabre VObject 4.5.8//EN
CALSCALE:GREGORIAN
LAST-MODIFIED:20220915T002831Z
BEGIN:VTIMEZONE
TZID:America/Vancouver
BEGIN:STANDARD
DTSTART:20211107T090000
TZOFFSETFROM:-0700
TZOFFSETTO:-0800
TZNAME:PST
END:STANDARD
BEGIN:STANDARD
DTSTART:20221106T090000
TZOFFSETFROM:-0700
TZOFFSETTO:-0800
TZNAME:PST
END:STANDARD
BEGIN:DAYLIGHT
DTSTART:20220313T100000
TZOFFSETFROM:-0800
TZOFFSETTO:-0700
TZNAME:PDT
END:DAYLIGHT
END:VTIMEZONE
BEGIN:VEVENT
UID:d25ef248-1af8-4277-a601-d519f986b8fd
DTSTAMP:20220915T002831Z
SUMMARY:CNAMEs as a privacy tool for the web  / Bounce Tracking Mitigations
DTSTART;TZID=America/Vancouver:20220914T163000
DTEND;TZID=America/Vancouver:20220914T173000
DESCRIPTION:https://www.w3.org/events/meetings/d25ef248-1af8-4277-a601-d519
 f986b8fd/\n\nCNAME records have a reputation as a tool to circumvent resou
 rce-blocking and specific privacy measures. However\, if used properly\, t
 hey can help websites integrate third-party services without requiring thi
 rd-party cookies\, providing a great privacy benefit. We want to discuss h
 ow browsers could support privacy-preserving usage of CNAMEs while prevent
 ing potential abuse. Joint session with a brief overview of chrome's propo
 sed [bounce tracking mitigations](https://github.com/wanderview/bounce-tra
 cking-mitigations/blob/main/explainer.md) following the CNAME discussion.\
 n\nAgenda\n\n**Facilitators & speakers**: Johann Hofmann\, Greg Whitworth\
 n\n**Session type**:  open discussion\n\n**Summary**:  CNAME records have 
 a reputation as a tool to circumvent resource-blocking and specific privac
 y measures. However\, if used properly\, they can help websites integrate 
 third-party services without requiring third-party cookies\, providing a g
 reat privacy benefit. We want to discuss how browsers could support privac
 y-preserving usage of CNAMEs while preventing potential abuse. Joint sessi
 on with a brief overview of chrome's proposed [https://github.com/wandervi
 ew/bounce-tracking-mitigations/blob/main/explainer.md bounce tracking miti
 gations] following the CNAME discussion.\n\n**Goals**:\n-  Hear about deve
 loper use cases and user concerns\, kick off an open-minded discussion on 
 the utility of CNAMEs. Maybe get some agreement across browsers on next st
 eps.\n-  Increase aware of bounce tracking mitigations and solicit feedbac
 k on the proposal.\n\nJoining Instructions: https://us02web.zoom.us/j/9321
 684963?pwd=ck1EeTg3aWFHMkx4Y3UwUDlaemJpQT09\n\nChat\n\nhttps://irc.w3.org/
 ?channels=%23cname-privacy
STATUS:CONFIRMED
CREATED:20220909T111656Z
LAST-MODIFIED:20220915T002831Z
SEQUENCE:1
ORGANIZER;CN=W3C Calendar;PARTSTAT=ACCEPTED;ROLE=NON-PARTICIPANT:mailto:nor
 eply@w3.org
ATTENDEE;CN=David Benoit:mailto:benoit@xdal.org
ATTENDEE;CN=Vittorio Bertocci:mailto:vittorio@auth0.com
ATTENDEE;CN=Christian Biesinger:mailto:cbiesinger@google.com
ATTENDEE;CN=Judith Bush:mailto:idpro@grey-cat.com
ATTENDEE;CN=Hong Cai:mailto:hong.cai@bbc.com
ATTENDEE;CN=Brian Campbell:mailto:bcampbell@pingidentity.com
ATTENDEE;CN=Tim Cappalli:mailto:timcappalli@cloudauth.dev
ATTENDEE;CN=Kristen Chapman:mailto:kristen.chapman@salesforce.com
ATTENDEE;CN=Alex Cone:mailto:alex.cone@iabtechlab.com
ATTENDEE;CN=Domenic Denicola:mailto:d@domenic.me
ATTENDEE;CN=Nick Doty:mailto:ndoty@cdt.org
ATTENDEE;CN=Chris Fredrickson:mailto:cfredric@google.com
ATTENDEE;CN=Sam Goto:mailto:goto@google.com
ATTENDEE;CN=Kaustubha Govind:mailto:kaustubhag@google.com
ATTENDEE;CN=Yi Gu:mailto:yigu@google.com
ATTENDEE;CN=Artur Janc:mailto:aaj@google.com
ATTENDEE;CN=Benjamin Kelly:mailto:wanderview@meta.com
ATTENDEE;CN=Don Le:mailto:donle@article19.org
ATTENDEE;CN=Chris Lemmons:mailto:chris_lemmons@comcast.com
ATTENDEE;CN=Brian May:mailto:imbmaydst@gmail.com
ATTENDEE;CN=Guillermo Movia:mailto:gmovia@internetbolivia.org
ATTENDEE;CN=Theresa O'Connor:mailto:hober@apple.com
ATTENDEE;CN=Michael O'Neill:mailto:mike@baycloud.ie
ATTENDEE;CN=Vinod Panicker:mailto:doniv@amazon.com
ATTENDEE;CN=Tommy Pauly:mailto:tpauly@apple.com
ATTENDEE;CN=Gregorio Pellegrino:mailto:gregorio.pellegrino@fondazionelia.or
 g
ATTENDEE;CN=Philipp Pfeiffenberger:mailto:philippp@google.com
ATTENDEE;CN=Daniel Rojas:mailto:darojas@google.com
ATTENDEE;CN=Rachit Sharma:mailto:rachit@iabtechlab.com
ATTENDEE;CN=Russell Stringham:mailto:rstringh@adobe.com
ATTENDEE;CN=Tom Van Goethem:mailto:tov@google.com
ATTENDEE;CN=Greg Whitworth:mailto:gwhitworth@salesforce.com
ATTENDEE;CN=Jeffrey Yasskin:mailto:jyasskin@google.com
ATTENDEE;CN=Emma Zuehlcke:mailto:emz@mozilla.com
LOCATION:Port Alberni — North Tower 4th floor
CATEGORIES:TPAC 2022,Breakout Sessions
END:VEVENT
END:VCALENDAR
