BEGIN:VCALENDAR
VERSION:2.0
PRODID:-//Sabre//Sabre VObject 4.5.8//EN
CALSCALE:GREGORIAN
LAST-MODIFIED:20250107T010403Z
BEGIN:VTIMEZONE
TZID:America/Los_Angeles
X-MICROSOFT-CDO-TZID:13
BEGIN:DAYLIGHT
DTSTART:20240310T100000
TZOFFSETFROM:-0800
TZOFFSETTO:-0700
TZNAME:PDT
END:DAYLIGHT
BEGIN:DAYLIGHT
DTSTART:20250309T100000
TZOFFSETFROM:-0800
TZOFFSETTO:-0700
TZNAME:PDT
END:DAYLIGHT
BEGIN:STANDARD
DTSTART:20241103T090000
TZOFFSETFROM:-0700
TZOFFSETTO:-0800
TZNAME:PST
END:STANDARD
END:VTIMEZONE
BEGIN:VEVENT
UID:d225a794-921b-48f8-882c-519ed40f6581
DTSTAMP:20250107T010403Z
SUMMARY:OpenUI-WHATWG/HTML-CSSWG meeting
DTSTART;TZID=America/Los_Angeles:20250109T080000
DTEND;TZID=America/Los_Angeles:20250109T090000
DESCRIPTION:https://www.w3.org/events/meetings/d225a794-921b-48f8-882c-519e
 d40f6581/\n\nDiscussions on styleable form controls issues\n\nAgenda: http
 s://github.com/whatwg/html/issues/10877
STATUS:CONFIRMED
CREATED:20250107T010400Z
LAST-MODIFIED:20250107T010403Z
SEQUENCE:0
ORGANIZER;CN=W3C Calendar;PARTSTAT=ACCEPTED;ROLE=NON-PARTICIPANT:mailto:nor
 eply@w3.org
ATTENDEE;CUTYPE=GROUP;ROLE=OPT-PARTICIPANT;RSVP=FALSE;CN=Cascading Style Sh
 eets (CSS) Working Group:mailto:www-style@w3.org
ATTENDEE;CUTYPE=GROUP;ROLE=OPT-PARTICIPANT;RSVP=FALSE;CN=Open UI Community 
 Group:mailto:public-open-ui@w3.org
LOCATION:Google Meet
END:VEVENT
END:VCALENDAR
