BEGIN:VCALENDAR
VERSION:2.0
PRODID:-//Sabre//Sabre VObject 4.5.8//EN
CALSCALE:GREGORIAN
LAST-MODIFIED:20260409T122847Z
BEGIN:VTIMEZONE
TZID:Etc/UTC
BEGIN:STANDARD
DTSTART:20250524T150000
TZOFFSETFROM:+0000
TZOFFSETTO:+0000
TZNAME:UTC
END:STANDARD
END:VTIMEZONE
BEGIN:VEVENT
UID:d20981d7-3b8e-4667-a6b2-d04cb85ab61b
DTSTAMP:20260409T122847Z
SUMMARY:WebRTC WG May 2026 call
DTSTART;TZID=Etc/UTC:20260519T150000
DTEND;TZID=Etc/UTC:20260519T170000
DESCRIPTION:https://www.w3.org/events/meetings/d20981d7-3b8e-4667-a6b2-d04c
 b85ab61b/\n\n
STATUS:TENTATIVE
CREATED:20260409T122847Z
LAST-MODIFIED:20260409T122847Z
SEQUENCE:0
ORGANIZER;CN=W3C Calendar;PARTSTAT=ACCEPTED;ROLE=NON-PARTICIPANT:mailto:nor
 eply@w3.org
ATTENDEE;CUTYPE=GROUP;ROLE=OPT-PARTICIPANT;RSVP=FALSE;CN=Web Real-Time Comm
 unications Working Group:mailto:public-webrtc@w3.org
END:VEVENT
END:VCALENDAR
