BEGIN:VCALENDAR
VERSION:2.0
PRODID:-//Sabre//Sabre VObject 4.5.8//EN
CALSCALE:GREGORIAN
LAST-MODIFIED:20240924T232859Z
BEGIN:VTIMEZONE
TZID:America/Los_Angeles
X-MICROSOFT-CDO-TZID:13
BEGIN:STANDARD
DTSTART:20231105T090000
TZOFFSETFROM:-0700
TZOFFSETTO:-0800
TZNAME:PST
END:STANDARD
BEGIN:STANDARD
DTSTART:20241103T090000
TZOFFSETFROM:-0700
TZOFFSETTO:-0800
TZNAME:PST
END:STANDARD
BEGIN:DAYLIGHT
DTSTART:20240310T100000
TZOFFSETFROM:-0800
TZOFFSETTO:-0700
TZNAME:PDT
END:DAYLIGHT
END:VTIMEZONE
BEGIN:VEVENT
UID:d2094f4c-5e77-4b4d-b2b7-d9ff0a1de4bb
DTSTAMP:20240924T232859Z
SUMMARY:WHATWG
DTSTART;TZID=America/Los_Angeles:20240924T163000
DTEND;TZID=America/Los_Angeles:20240924T180000
DESCRIPTION:https://www.w3.org/events/meetings/d2094f4c-5e77-4b4d-b2b7-d9ff
 0a1de4bb/\n\n\n\nAgenda: https://github.com/whatwg/meta/issues/326
STATUS:CONFIRMED
CREATED:20240614T161723Z
LAST-MODIFIED:20240924T232859Z
SEQUENCE:6
ORGANIZER;CN=W3C Calendar;PARTSTAT=ACCEPTED;ROLE=NON-PARTICIPANT:mailto:nor
 eply@w3.org
LOCATION:4 Concourse Level - Huntington
CATEGORIES:TPAC 2024,Group Meetings
END:VEVENT
END:VCALENDAR
