BEGIN:VCALENDAR
VERSION:2.0
PRODID:-//Sabre//Sabre VObject 4.5.8//EN
CALSCALE:GREGORIAN
LAST-MODIFIED:20251109T141009Z
BEGIN:VTIMEZONE
TZID:Asia/Tokyo
X-MICROSOFT-CDO-TZID:20
BEGIN:STANDARD
DTSTART:20241115T000000
TZOFFSETFROM:+0900
TZOFFSETTO:+0900
TZNAME:JST
END:STANDARD
END:VTIMEZONE
BEGIN:VEVENT
UID:d079bef8-3db1-47a4-a876-2bad6b9c683f
DTSTAMP:20251109T141009Z
SUMMARY:Web Applications Working Group
DTSTART;TZID=Asia/Tokyo:20251110T090000
DTEND;TZID=Asia/Tokyo:20251110T164500
DESCRIPTION:https://www.w3.org/events/meetings/d079bef8-3db1-47a4-a876-2bad
 6b9c683f/\n\n\n\nAgenda: https://github.com/w3c/webappswg/wiki/TPAC-2025
STATUS:CONFIRMED
CREATED:20250716T142601Z
LAST-MODIFIED:20251109T141009Z
SEQUENCE:9
ORGANIZER;CN=W3C Calendar;PARTSTAT=ACCEPTED;ROLE=NON-PARTICIPANT:mailto:nor
 eply@w3.org
ATTENDEE;CUTYPE=GROUP;ROLE=OPT-PARTICIPANT;RSVP=FALSE;CN=Web Applications W
 orking Group:mailto:public-webapps@w3.org
LOCATION:Floor 4 - 401
CATEGORIES:TPAC 2025,Group Meetings
END:VEVENT
END:VCALENDAR
