BEGIN:VCALENDAR
VERSION:2.0
PRODID:-//Sabre//Sabre VObject 4.5.8//EN
CALSCALE:GREGORIAN
LAST-MODIFIED:20260218T184840Z
BEGIN:VTIMEZONE
TZID:Asia/Tokyo
X-MICROSOFT-CDO-TZID:20
BEGIN:STANDARD
DTSTART:20241117T083000
TZOFFSETFROM:+0900
TZOFFSETTO:+0900
TZNAME:JST
END:STANDARD
END:VTIMEZONE
BEGIN:VEVENT
UID:d0785eaf-62d6-42da-8afd-a7e3318a333d
DTSTAMP:20260218T184840Z
SUMMARY:The Future of Assistive Tech Interoperability with ARIA-AT
DTSTART;TZID=Asia/Tokyo:20251112T173000
DTEND;TZID=Asia/Tokyo:20251112T183000
DESCRIPTION:https://www.w3.org/events/meetings/d0785eaf-62d6-42da-8afd-a7e3
 318a333d/\n\nThe ARIA-AT program and Community Group validates how assisti
 ve technologies and browsers work together by running automated and manual
  tests on real screen readers and comparing the results to expected behavi
 ors. This lets us measure interoperability across APG design patterns and\
 , more recently\, ARIA and HTML features. We’ll walk through recent impr
 ovements in the program\, along with lingering challenges\, and have an op
 en discussion about what the future of the program could look like.\n\n**G
 oal(s):**\nProvide updates on our work\, tools\, and progress toward AT In
 terop\n\nAgenda\n\n**Materials:**\n- [Session proposal on GitHub](https://
 github.com/w3c/tpac2025-breakouts/issues/30)
STATUS:CONFIRMED
CREATED:20251028T073728Z
LAST-MODIFIED:20260218T184840Z
SEQUENCE:4
ORGANIZER;CN=W3C Calendar;PARTSTAT=ACCEPTED;ROLE=NON-PARTICIPANT:mailto:nor
 eply@w3.org
LOCATION:Floor 5 - 505
CATEGORIES:TPAC 2025,Breakout Sessions
END:VEVENT
END:VCALENDAR
