BEGIN:VCALENDAR
VERSION:2.0
PRODID:-//Sabre//Sabre VObject 4.5.8//EN
CALSCALE:GREGORIAN
LAST-MODIFIED:20260218T182415Z
BEGIN:VTIMEZONE
TZID:Asia/Tokyo
X-MICROSOFT-CDO-TZID:20
BEGIN:STANDARD
DTSTART:20241118T080000
TZOFFSETFROM:+0900
TZOFFSETTO:+0900
TZNAME:JST
END:STANDARD
END:VTIMEZONE
BEGIN:VEVENT
UID:d020c33a-fc48-4e61-8d22-b3a7dfe35aaa
DTSTAMP:20260218T182415Z
SUMMARY:Autofill for dynamically changing forms
DTSTART;TZID=Asia/Tokyo:20251113T170000
DTEND;TZID=Asia/Tokyo:20251113T180000
DESCRIPTION:https://www.w3.org/events/meetings/d020c33a-fc48-4e61-8d22-b3a7
 dfe35aaa/\n\nAutofill is a key feature of the web that reduces friction fo
 r millions of users everyday. However\, there are areas where Autofill as 
 defined in HTML and as implemented in browsers fails to address website ne
 eds. One such area is in dealing with dynamically changing forms\, especia
 lly address forms which are often dynamic - different geographies have dif
 ferent shapes and requirements for address input.\n\n[A proposal](https://
 github.com/WICG/address-autofill) has been made to address (pun intended) 
 this situation\, but requires consideration and discussion as to whether i
 t meets the needs and constraints of both browsers and websites (particula
 rly e-commerce sites). See also issues https://github.com/WICG/address-aut
 ofill/issues/14 and https://github.com/WICG/address-autofill/issues/15 fil
 ed by Google Chrome.\n\nThe focus of this session will be on the above pro
 posal\, but we welcome all who are interested in how Autofill could be imp
 roved to make for a better experience for both users and websites!\n\n**Go
 al(s):**\nDiscuss https://github.com/WICG/address-autofill\, tease out req
 uirements and restrictions for both browsers and websites\n\nAgenda\n\n**M
 aterials:**\n- [Session proposal on GitHub](https://github.com/w3c/tpac202
 5-breakouts/issues/89)
STATUS:CONFIRMED
CREATED:20251109T084603Z
LAST-MODIFIED:20260218T182415Z
SEQUENCE:1
ORGANIZER;CN=W3C Calendar;PARTSTAT=ACCEPTED;ROLE=NON-PARTICIPANT:mailto:nor
 eply@w3.org
LOCATION:Floor 4 - 403
CATEGORIES:TPAC 2025,Breakout Sessions
END:VEVENT
END:VCALENDAR
