BEGIN:VCALENDAR
VERSION:2.0
PRODID:-//Sabre//Sabre VObject 4.5.8//EN
CALSCALE:GREGORIAN
LAST-MODIFIED:20231116T182231Z
BEGIN:VTIMEZONE
TZID:America/Los_Angeles
X-MICROSOFT-CDO-TZID:13
BEGIN:DAYLIGHT
DTSTART:20230312T100000
TZOFFSETFROM:-0800
TZOFFSETTO:-0700
TZNAME:PDT
END:DAYLIGHT
BEGIN:DAYLIGHT
DTSTART:20240310T100000
TZOFFSETFROM:-0800
TZOFFSETTO:-0700
TZNAME:PDT
END:DAYLIGHT
BEGIN:STANDARD
DTSTART:20231105T090000
TZOFFSETFROM:-0700
TZOFFSETTO:-0800
TZNAME:PST
END:STANDARD
END:VTIMEZONE
BEGIN:VEVENT
UID:cff6ac42-bdc2-4a38-8993-7dd46e507741
DTSTAMP:20231116T182231Z
SUMMARY:Bi-Weekly Meeting of Assistive Technology Automation Subgroup of AR
 IA-AT Community Group
DTSTART;TZID=America/Los_Angeles:20231120T120000
DTEND;TZID=America/Los_Angeles:20231120T130000
DESCRIPTION:https://www.w3.org/events/meetings/cff6ac42-bdc2-4a38-8993-7dd4
 6e507741/20231120T120000/\n\nThis group is developing a draft proposal for
  a W3C AT Driver Specification.\n\nGitHub repository: https://github.com/w
 3c/aria-at-automation\n\nAgenda\n\n### update on status of automation UI i
 n ARIA-AT App\n\nOver the past few months\, we've been simultaneously impl
 ementing and refining the user interface for automated response collection
  in ARIA-AT App. During the meeting\, we can review [the latest iteration 
 of the design](https://github.com/w3c/aria-at-app/issues/732#issuecomment-
 1789430545) and discuss the state of the implementation.\n\n### collaborat
 ing on the NVDA add-on\n\nIn implementing the automation MVP\, [Corey at B
 ocoup has identified a few issues with the NVDA add-on](https://github.com
 /Prime-Access-Consulting/nvda-at-automation/issues/created_by/gnarf). Duri
 ng the meeting\, we can discuss which of those issues (if any) block the r
 elease of the MVP\, and we can decide how Bocoup and PAC should collaborat
 e on the fixes.
STATUS:CONFIRMED
CREATED:20231116T182227Z
LAST-MODIFIED:20231116T182231Z
SEQUENCE:2
ORGANIZER;CN=W3C Calendar;PARTSTAT=ACCEPTED;ROLE=NON-PARTICIPANT:mailto:nor
 eply@w3.org
ATTENDEE;CUTYPE=GROUP;ROLE=OPT-PARTICIPANT;RSVP=FALSE;CN=ARIA and Assistive
  Technologies Community Group:mailto:public-aria-at@w3.org
RECURRENCE-ID;TZID=America/Los_Angeles:20231120T120000
END:VEVENT
END:VCALENDAR
