BEGIN:VCALENDAR
VERSION:2.0
PRODID:-//Sabre//Sabre VObject 4.5.8//EN
CALSCALE:GREGORIAN
LAST-MODIFIED:20221101T175344Z
BEGIN:VTIMEZONE
TZID:America/Los_Angeles
X-MICROSOFT-CDO-TZID:13
BEGIN:DAYLIGHT
DTSTART:20220313T100000
TZOFFSETFROM:-0800
TZOFFSETTO:-0700
TZNAME:PDT
END:DAYLIGHT
BEGIN:STANDARD
DTSTART:20221106T090000
TZOFFSETFROM:-0700
TZOFFSETTO:-0800
TZNAME:PST
END:STANDARD
END:VTIMEZONE
BEGIN:VEVENT
UID:cfeb90e3-c96a-4622-b555-294cf41f6cd9
DTSTAMP:20221101T175344Z
SUMMARY:Accname role traversal
DTSTART;TZID=America/Los_Angeles:20221103T160000
DTEND;TZID=America/Los_Angeles:20221103T170000
DESCRIPTION:https://www.w3.org/events/meetings/cfeb90e3-c96a-4622-b555-294c
 f41f6cd9/\n\n\n\nAgenda: https://mit.zoom.us/j/95929108988\n\nAgenda\n\nJo
 in Zoom Meeting\nhttps://mit.zoom.us/j/95929108988\n\nOne tap mobile\n+166
 99006833\,\,95929108988# US (San Jose)\n+16465588656\,\,95929108988# US (N
 ew York)\n\nMeeting ID: 959 2910 8988\n\nUS : +1 646 558 8656 or +1 669 90
 0 6833\n\nInternational Numbers: https://mit.zoom.us/u/acJTrJWJoI\n\nJoin 
 by SIP\n95929108988@zoomcrc.com\n\nJoin by Skype for Business\nhttps://mit
 .zoom.us/skype/95929108988
STATUS:CONFIRMED
CREATED:20221101T175343Z
LAST-MODIFIED:20221101T175344Z
SEQUENCE:0
ORGANIZER;CN=W3C Calendar;PARTSTAT=ACCEPTED;ROLE=NON-PARTICIPANT:mailto:nor
 eply@w3.org
ATTENDEE;CUTYPE=GROUP;ROLE=OPT-PARTICIPANT;RSVP=FALSE;CN=Accessible Rich In
 ternet Applications Working Group:mailto:public-aria@w3.org
END:VEVENT
END:VCALENDAR
