BEGIN:VCALENDAR
VERSION:2.0
PRODID:-//Sabre//Sabre VObject 4.5.8//EN
CALSCALE:GREGORIAN
LAST-MODIFIED:20251105T231558Z
BEGIN:VTIMEZONE
TZID:Asia/Tokyo
X-MICROSOFT-CDO-TZID:20
BEGIN:STANDARD
DTSTART:20241115T063000
TZOFFSETFROM:+0900
TZOFFSETTO:+0900
TZNAME:JST
END:STANDARD
END:VTIMEZONE
BEGIN:VEVENT
UID:cf8f76b2-8756-44f5-9299-fb39cf5ee66a
DTSTAMP:20251105T231558Z
SUMMARY:Autonomous Agents on the Web CG
DTSTART;TZID=Asia/Tokyo:20251110T153000
DTEND;TZID=Asia/Tokyo:20251110T164500
DESCRIPTION:https://www.w3.org/events/meetings/cf8f76b2-8756-44f5-9299-fb39
 cf5ee66a/\n\nThe meeting will begin with an overview of the WebAgents CG 
 — including its history\, goals\, and scope.\n\nWe will then continue wi
 th a discussion of Hypermedia Multi-Agent Systems\, starting from early vi
 sions of agents on the Web\, a brief history of Web-based agents and multi
 -agent systems (MAS)\, and focusing on the CG's current work on defining a
 rchitectural patterns for Web-based MAS.\n\nAgenda: https://github.com/w3c
 -cg/webagents/tree/main/Meetings/2025-11-10-TPAC
STATUS:CONFIRMED
CREATED:20250716T142815Z
LAST-MODIFIED:20251105T231558Z
SEQUENCE:8
ORGANIZER;CN=W3C Calendar;PARTSTAT=ACCEPTED;ROLE=NON-PARTICIPANT:mailto:nor
 eply@w3.org
ATTENDEE;CUTYPE=GROUP;ROLE=OPT-PARTICIPANT;RSVP=FALSE;CN=Autonomous Agents 
 on the Web Community Group:mailto:public-webagents@w3.org
LOCATION:Floor 3 - 306
CATEGORIES:TPAC 2025,Group Meetings
END:VEVENT
END:VCALENDAR
