BEGIN:VCALENDAR
VERSION:2.0
PRODID:-//Sabre//Sabre VObject 4.5.8//EN
CALSCALE:GREGORIAN
LAST-MODIFIED:20220914T204513Z
BEGIN:VTIMEZONE
TZID:America/Vancouver
BEGIN:STANDARD
DTSTART:20211107T090000
TZOFFSETFROM:-0700
TZOFFSETTO:-0800
TZNAME:PST
END:STANDARD
BEGIN:STANDARD
DTSTART:20221106T090000
TZOFFSETFROM:-0700
TZOFFSETTO:-0800
TZNAME:PST
END:STANDARD
BEGIN:DAYLIGHT
DTSTART:20220313T100000
TZOFFSETFROM:-0800
TZOFFSETTO:-0700
TZNAME:PDT
END:DAYLIGHT
END:VTIMEZONE
BEGIN:VEVENT
UID:cf75fe88-4de5-4700-82be-63359d49760d
DTSTAMP:20220914T204513Z
SUMMARY:Improving the Web Developer Experience
DTSTART;TZID=America/Vancouver:20220914T133000
DTEND;TZID=America/Vancouver:20220914T143000
DESCRIPTION:https://www.w3.org/events/meetings/cf75fe88-4de5-4700-82be-6335
 9d49760d/\n\nA recurring theme in conversations with and surveys of Web de
 velopers is how less polished the developer experience is for the Web comp
 ared to e.g. native platforms. While some of this gap is unavoidable in a 
 platform anchored in competing implementations of open standards\, there i
 s also likely room for a lot of improvements through better coordination o
 f browser and dev tools providers. This breakout offers to identify such o
 pportunities and will report on some early discussions around coordinated 
 developer-targeting research (as was done with the [MDN DNA survey](https:
 //insights.developer.mozilla.org/)) and increasing the understanding of th
 e interoperable surface of the Web platform (as illustrated by the [Intero
 p 2022 effort](https://web.dev/interop-2022/))\n\nAgenda\n\n**Facilitators
  & speakers**: Dominique Hazael-Massieux\, Kadir Topal\n\n**Session type**
 : short presentation and open discussion\n\n**Summary**: A recurring theme
  in conversations with and surveys of Web developers is how less polished 
 the developer experience is for the Web compared to e.g. native platforms.
  While some of this gap is unavoidable in a platform anchored in competing
  implementations of open standards\, there is also likely room for a lot o
 f improvements through better coordination of browser and dev tools provid
 ers. This breakout offers to identify such opportunities and will report o
 n some early discussions around coordinated developer-targeting research (
 as was done with the [MDN DNA survey](https://insights.developer.mozilla.o
 rg/)) and increasing the understanding of the interoperable surface of the
  Web platform (as illustrated by the [Interop 2022 effort](https://web.dev
 /interop-2022/))\n\n**Goals**:\n- Sketch a shared understanding of the cur
 rent limitations of the Web Developer Experience\n-  Identify opportunitie
 s for collaboration on improving the Web Developer Experience\n\n**Materia
 ls**\n- [slides](https://lists.w3.org/Archives/Public/www-archive/2022Sep/
 att-0004/Developer_Experience__TPAC_breakout_2022.pdf)\n\nJoining Instruct
 ions: https://us02web.zoom.us/j/4415985829?pwd=cEJHcm95S1A2NEhPQXBycHZlZHp
 NUT09\n\nChat\n\nhttps://irc.w3.org/?channels=%23webdx
STATUS:CONFIRMED
CREATED:20220909T111514Z
LAST-MODIFIED:20220914T204513Z
SEQUENCE:1
ORGANIZER;CN=W3C Calendar;PARTSTAT=ACCEPTED;ROLE=NON-PARTICIPANT:mailto:nor
 eply@w3.org
ATTENDEE;CN=Irfan Ali:mailto:irfan.ali@blackrock.com
ATTENDEE;CN=Martin Alvarez-Espinar:mailto:martin.alvarez.espinar1@huawei.co
 m
ATTENDEE;CN=Rachel Andrew:mailto:rachelandrew@google.com
ATTENDEE;CN=Matthew Atkinson:mailto:m.atkinson@samsung.com
ATTENDEE;CN=Providence Baraka:mailto:barakaprovidence@gmail.com
ATTENDEE;CN=David Baron:mailto:dbaron@dbaron.org
ATTENDEE;CN=Curt Bellew:mailto:curt.bellew@oracle.com
ATTENDEE;CN=christin cai:mailto:christincai@tencent.com
ATTENDEE;CN=Rob Eisenberg:mailto:rob@bluespire.com
ATTENDEE;CN=Elika Etemad:mailto:fantasai@inkedblade.net
ATTENDEE;CN=James Graham:mailto:james@hoppipolla.co.uk
ATTENDEE;CN=Annette Greiner:mailto:amgreiner@lbl.gov
ATTENDEE;CN=David Grogan:mailto:dgrogan@google.com
ATTENDEE;CN=Shirisha Gubba:mailto:nsfsiri2014@gmail.com
ATTENDEE;CN=Christian Liebel:mailto:christian.liebel@thinktecture.com
ATTENDEE;CN=Andy Luhrs:mailto:aluhrs@microsoft.com
ATTENDEE;CN=Coralie Mercier:mailto:coralie@w3.org
ATTENDEE;CN=Eric Meyer:mailto:eric@meyerweb.com
ATTENDEE;CN=Gerald Oskoboiny:mailto:gerald@w3.org
ATTENDEE;CN=Gregorio Pellegrino:mailto:gregorio.pellegrino@fondazionelia.or
 g
ATTENDEE;CN=Simon Pieters:mailto:zcorpan@mozilla.com
ATTENDEE;CN=Vincent Scheib:mailto:scheib@google.com
ATTENDEE;CN=Cynthia Shelly:mailto:buphie@gmail.com
ATTENDEE;CN=David Singer:mailto:singer@mac.com
ATTENDEE;CN=Sam Sneddon:mailto:gsnedders@apple.com
ATTENDEE;CN=Miriam Suzanne:mailto:miriam@oddbird.net
ATTENDEE;CN=Kadir Topal:mailto:kadirtopal@google.com
ATTENDEE;CN=Jason Waterman:mailto:jwaterman@mozilla.com
ATTENDEE;CN=Yoav Weiss:mailto:yoav@yoav.ws
ATTENDEE;CN=Chris Wilson:mailto:cwilso@gmail.com
ATTENDEE;CN=Ayşegül Yönet:mailto:aysegulyonet@gmail.com
LOCATION:Junior B — North Tower 3rd floor
CATEGORIES:TPAC 2022,Breakout Sessions
END:VEVENT
END:VCALENDAR
