BEGIN:VCALENDAR
VERSION:2.0
PRODID:-//Sabre//Sabre VObject 4.5.8//EN
CALSCALE:GREGORIAN
LAST-MODIFIED:20251009T191538Z
BEGIN:VTIMEZONE
TZID:Etc/UTC
BEGIN:STANDARD
DTSTART:20241022T150000
TZOFFSETFROM:+0000
TZOFFSETTO:+0000
TZNAME:UTC
END:STANDARD
END:VTIMEZONE
BEGIN:VEVENT
UID:ceaa4a9c-af44-4037-bf45-08805b1a8474
DTSTAMP:20251009T191538Z
SUMMARY:WebView CG Meeting
DTSTART;TZID=Etc/UTC:20251017T150000
DTEND;TZID=Etc/UTC:20251017T160000
DESCRIPTION:https://www.w3.org/events/meetings/ceaa4a9c-af44-4037-bf45-0880
 5b1a8474/\n\nTPAC is less than one month away. Let's talk about what we wo
 uld like to discuss during TPAC.\n\nIf there is time we can talk about upd
 ates on current topics like testing apps\, Baseline etc.\n\nAgenda: https:
 //bit.ly/webview-cg-2510\n\nAgenda\n\n* Anything new on Baseline\n* Plans 
 for TPAC\n* CanIWebView Apps\n* ...\n\nPlease comment on the doc
STATUS:CONFIRMED
CREATED:20251006T172121Z
LAST-MODIFIED:20251009T191538Z
SEQUENCE:1
ORGANIZER;CN=W3C Calendar;PARTSTAT=ACCEPTED;ROLE=NON-PARTICIPANT:mailto:nor
 eply@w3.org
ATTENDEE;CUTYPE=GROUP;ROLE=OPT-PARTICIPANT;RSVP=FALSE;CN=WebView Community 
 Group:mailto:public-webview@w3.org
END:VEVENT
END:VCALENDAR
