BEGIN:VCALENDAR
VERSION:2.0
PRODID:-//Sabre//Sabre VObject 4.5.8//EN
CALSCALE:GREGORIAN
LAST-MODIFIED:20250203T182727Z
BEGIN:VTIMEZONE
TZID:America/New_York
X-MICROSOFT-CDO-TZID:10
BEGIN:DAYLIGHT
DTSTART:20240310T070000
TZOFFSETFROM:-0500
TZOFFSETTO:-0400
TZNAME:EDT
END:DAYLIGHT
BEGIN:DAYLIGHT
DTSTART:20250309T070000
TZOFFSETFROM:-0500
TZOFFSETTO:-0400
TZNAME:EDT
END:DAYLIGHT
BEGIN:STANDARD
DTSTART:20241103T060000
TZOFFSETFROM:-0400
TZOFFSETTO:-0500
TZNAME:EST
END:STANDARD
END:VTIMEZONE
BEGIN:VEVENT
UID:ce8b7aec-ab87-414f-8a21-29dd209bec70
DTSTAMP:20250203T182727Z
SUMMARY:Private Advertising Technology CG Meeting
DTSTART;TZID=America/New_York:20250213T020000
DTEND;TZID=America/New_York:20250213T040000
DESCRIPTION:https://www.w3.org/events/meetings/ce8b7aec-ab87-414f-8a21-29dd
 209bec70/\n\nPrivate Advertising Technology CG Meeting.\n\nAgenda: https:/
 /github.com/patcg/meetings/issues\n\nJoining Instructions: https://w3c.zoo
 m.us/j/82659868398?pwd=R2wyMlVzVGcwcmZJb1BpZmdDc2crUT09\n\nChat\n\n[w3ccom
 munity slack](https://w3ccommunity.slack.com/)#private-advertising-technol
 ogy-cg ([invite](https://www.w3.org/slack-w3ccommunity-invite))
STATUS:CANCELLED
CREATED:20250113T171148Z
LAST-MODIFIED:20250203T182727Z
SEQUENCE:1
ORGANIZER;CN=W3C Calendar;PARTSTAT=ACCEPTED;ROLE=NON-PARTICIPANT:mailto:nor
 eply@w3.org
ATTENDEE;CUTYPE=GROUP;ROLE=OPT-PARTICIPANT;RSVP=FALSE;CN=Private Advertisin
 g Technology Community Group:mailto:public-patcg@w3.org
END:VEVENT
END:VCALENDAR
