BEGIN:VCALENDAR
VERSION:2.0
PRODID:-//Sabre//Sabre VObject 4.5.8//EN
CALSCALE:GREGORIAN
LAST-MODIFIED:20250909T163445Z
BEGIN:VTIMEZONE
TZID:Europe/Dublin
BEGIN:DAYLIGHT
DTSTART:20241027T010000
TZOFFSETFROM:+0100
TZOFFSETTO:+0000
TZNAME:GMT
END:DAYLIGHT
BEGIN:DAYLIGHT
DTSTART:20251026T010000
TZOFFSETFROM:+0100
TZOFFSETTO:+0000
TZNAME:GMT
END:DAYLIGHT
BEGIN:STANDARD
DTSTART:20250330T010000
TZOFFSETFROM:+0000
TZOFFSETTO:+0100
TZNAME:IST
END:STANDARD
END:VTIMEZONE
BEGIN:VEVENT
UID:ce42ad87-3040-4f82-a341-7cb7c699a1a4
DTSTAMP:20250909T163445Z
SUMMARY:DPVCG Meeting 10 SEP 2025
DTSTART;TZID=Europe/Dublin:20250910T133000
DTEND;TZID=Europe/Dublin:20250910T143000
DESCRIPTION:https://www.w3.org/events/meetings/ce42ad87-3040-4f82-a341-7cb7
 c699a1a4/20250910T133000/\n\nThis is the weekly meeting for the DPVCG\n\nA
 genda: https://www.w3.org/events/meetings/ce42ad87-3040-4f82-a341-7cb7c699
 a1a4/20250910T133000/
STATUS:CONFIRMED
CREATED:20250909T163443Z
LAST-MODIFIED:20250909T163445Z
SEQUENCE:3
ORGANIZER;CN=W3C Calendar;PARTSTAT=ACCEPTED;ROLE=NON-PARTICIPANT:mailto:nor
 eply@w3.org
ATTENDEE;CUTYPE=GROUP;ROLE=OPT-PARTICIPANT;RSVP=FALSE;CN=Data Privacy Vocab
 ularies and Controls Community Group:mailto:public-dpvcg@w3.org
RECURRENCE-ID;TZID=Europe/Dublin:20250910T133000
END:VEVENT
END:VCALENDAR
