BEGIN:VCALENDAR
VERSION:2.0
PRODID:-//Sabre//Sabre VObject 4.5.8//EN
CALSCALE:GREGORIAN
LAST-MODIFIED:20220304T160555Z
BEGIN:VTIMEZONE
TZID:Etc/UTC
BEGIN:STANDARD
DTSTART:20210314T090000
TZOFFSETFROM:+0000
TZOFFSETTO:+0000
TZNAME:UTC
END:STANDARD
END:VTIMEZONE
BEGIN:VEVENT
UID:cdd3a21a-2805-4afb-b66f-c9a18bb7e52d
DTSTAMP:20220304T160555Z
SUMMARY:Open Athletics Virtual Meeting (09 March)
DTSTART;TZID=Etc/UTC:20220309T090000
DTEND;TZID=Etc/UTC:20220309T100000
DESCRIPTION:https://www.w3.org/events/meetings/cdd3a21a-2805-4afb-b66f-c9a1
 8bb7e52d/\n\nMonthly meeting to discuss the status of the model and vocabu
 lary to represent competitions\, athletes and results.\n\nAgenda: https://
 github.com/w3c/opentrack-cg/wiki/Meeting-2022-03-09#agenda\n\nAgenda\n\n1.
  Refinement of the Competition Model (WA's participation)\n2. AOB
STATUS:CONFIRMED
CREATED:20220304T160554Z
LAST-MODIFIED:20220304T160555Z
SEQUENCE:0
ORGANIZER;CN=W3C Calendar;PARTSTAT=ACCEPTED;ROLE=NON-PARTICIPANT:mailto:nor
 eply@w3.org
ATTENDEE;CUTYPE=GROUP;ROLE=OPT-PARTICIPANT;RSVP=FALSE;CN=OpenTrack Communit
 y Group:mailto:public-opentrack@w3.org
LOCATION:https://meet.jit.si/openathletics
END:VEVENT
END:VCALENDAR
