BEGIN:VCALENDAR
VERSION:2.0
PRODID:-//Sabre//Sabre VObject 4.5.8//EN
CALSCALE:GREGORIAN
LAST-MODIFIED:20250122T072915Z
BEGIN:VTIMEZONE
TZID:Etc/UTC
BEGIN:STANDARD
DTSTART:20240127T160000
TZOFFSETFROM:+0000
TZOFFSETTO:+0000
TZNAME:UTC
END:STANDARD
END:VTIMEZONE
BEGIN:VEVENT
UID:ccec9587-3820-4f0f-9922-301969cacd67
DTSTAMP:20250122T072915Z
SUMMARY:WebRTC WG January 2025 call
DTSTART;TZID=Etc/UTC:20250121T160000
DTEND;TZID=Etc/UTC:20250121T180000
DESCRIPTION:https://www.w3.org/events/meetings/ccec9587-3820-4f0f-9922-3019
 69cacd67/\n\n\n\nAgenda: https://www.w3.org/2011/04/webrtc/wiki/January_21
 _2025
STATUS:CONFIRMED
CREATED:20241030T163341Z
LAST-MODIFIED:20250122T072915Z
SEQUENCE:1
ORGANIZER;CN=W3C Calendar;PARTSTAT=ACCEPTED;ROLE=NON-PARTICIPANT:mailto:nor
 eply@w3.org
ATTENDEE;CUTYPE=GROUP;ROLE=OPT-PARTICIPANT;RSVP=FALSE;CN=Web Real-Time Comm
 unications Working Group:mailto:public-webrtc@w3.org
END:VEVENT
END:VCALENDAR
