BEGIN:VCALENDAR
VERSION:2.0
PRODID:-//Sabre//Sabre VObject 4.5.8//EN
CALSCALE:GREGORIAN
LAST-MODIFIED:20211027T160532Z
BEGIN:VTIMEZONE
TZID:Etc/UTC
BEGIN:STANDARD
DTSTART:20201103T160000
TZOFFSETFROM:+0000
TZOFFSETTO:+0000
TZNAME:UTC
END:STANDARD
END:VTIMEZONE
BEGIN:VEVENT
UID:cbe4a6e3-44eb-4c9c-ab0f-9763153d6cb8
DTSTAMP:20211027T160532Z
SUMMARY:Editing WG TPAC Meetings
DTSTART;TZID=Etc/UTC:20211029T160000
DTEND;TZID=Etc/UTC:20211029T180000
DESCRIPTION:https://www.w3.org/events/meetings/cbe4a6e3-44eb-4c9c-ab0f-9763
 153d6cb8/\n\n\n\nAgenda: https://github.com/w3c/editing/labels/Agenda%2B
STATUS:CONFIRMED
CREATED:20211026T210315Z
LAST-MODIFIED:20211027T160532Z
SEQUENCE:3
ORGANIZER;CN=W3C Calendar;PARTSTAT=ACCEPTED;ROLE=NON-PARTICIPANT:mailto:nor
 eply@w3.org
ATTENDEE;CUTYPE=GROUP;ROLE=OPT-PARTICIPANT;RSVP=FALSE;CN=Web Editing Workin
 g Group:mailto:public-editing-tf@w3.org
LOCATION:Online Meetings
END:VEVENT
END:VCALENDAR
