BEGIN:VCALENDAR
VERSION:2.0
PRODID:-//Sabre//Sabre VObject 4.5.8//EN
CALSCALE:GREGORIAN
LAST-MODIFIED:20230628T075218Z
BEGIN:VTIMEZONE
TZID:Etc/UTC
BEGIN:STANDARD
DTSTART:20220702T150000
TZOFFSETFROM:+0000
TZOFFSETTO:+0000
TZNAME:UTC
END:STANDARD
END:VTIMEZONE
BEGIN:VEVENT
UID:cbb0c476-a3e2-418f-9efd-67e7b278bb5d
DTSTAMP:20230628T075218Z
SUMMARY:WebRTC WG June 2023 call
DTSTART;TZID=Etc/UTC:20230627T150000
DTEND;TZID=Etc/UTC:20230627T170000
DESCRIPTION:https://www.w3.org/events/meetings/cbb0c476-a3e2-418f-9efd-67e7
 b278bb5d/\n\n\n\nAgenda: https://www.w3.org/2011/04/webrtc/wiki/June_27_20
 23
STATUS:TENTATIVE
CREATED:20230103T081056Z
LAST-MODIFIED:20230628T075218Z
SEQUENCE:2
ORGANIZER;CN=W3C Calendar;PARTSTAT=ACCEPTED;ROLE=NON-PARTICIPANT:mailto:nor
 eply@w3.org
ATTENDEE;CUTYPE=GROUP;ROLE=OPT-PARTICIPANT;RSVP=FALSE;CN=Web Real-Time Comm
 unications Working Group:mailto:public-webrtc@w3.org
END:VEVENT
END:VCALENDAR
