BEGIN:VCALENDAR
VERSION:2.0
PRODID:-//Sabre//Sabre VObject 4.5.8//EN
CALSCALE:GREGORIAN
LAST-MODIFIED:20260218T184407Z
BEGIN:VTIMEZONE
TZID:Asia/Tokyo
X-MICROSOFT-CDO-TZID:20
BEGIN:STANDARD
DTSTART:20241117T083000
TZOFFSETFROM:+0900
TZOFFSETTO:+0900
TZNAME:JST
END:STANDARD
END:VTIMEZONE
BEGIN:VEVENT
UID:cb9f758f-8d4f-4a97-8254-fe214bdb2acb
DTSTAMP:20260218T184407Z
SUMMARY:Identity Systems and Threats: Towards a Holistic View
DTSTART;TZID=Asia/Tokyo:20251112T173000
DTEND;TZID=Asia/Tokyo:20251112T183000
DESCRIPTION:https://www.w3.org/events/meetings/cb9f758f-8d4f-4a97-8254-fe21
 4bdb2acb/\n\nDigital identities are crucial building blocks for our modern
  digital infrastructure. Over the last years\, numerous governmental initi
 atives have been launched to establish certified digital identities\, whic
 h are supposed to provide strong identification guarantees of their holder
 s for digital processes in governmental as well as private sector applicat
 ions. As a consequence\, there are high security requirements for this typ
 e of identity system and all of its components. In this talk\, we present 
 relevant threat models on different layers of a system architecture for su
 ch a system and discuss potential challenges when composing their results.
  We thus argue for the necessity of a holistic approach to understand the 
 threats against this type of a system.\n\nPossible additional co-Chair (if
  registered): @carbeer\n\n**Goal(s):**\nPresent the Holistic view of Ident
 ity\n\nAgenda\n\n**Materials:**\n- [Session proposal on GitHub](https://gi
 thub.com/w3c/tpac2025-breakouts/issues/55)
STATUS:CONFIRMED
CREATED:20251028T131400Z
LAST-MODIFIED:20260218T184407Z
SEQUENCE:5
ORGANIZER;CN=W3C Calendar;PARTSTAT=ACCEPTED;ROLE=NON-PARTICIPANT:mailto:nor
 eply@w3.org
LOCATION:Floor 4 - 402
CATEGORIES:TPAC 2025,Breakout Sessions
END:VEVENT
END:VCALENDAR
