BEGIN:VCALENDAR
VERSION:2.0
PRODID:-//Sabre//Sabre VObject 4.5.8//EN
CALSCALE:GREGORIAN
LAST-MODIFIED:20230628T133737Z
BEGIN:VTIMEZONE
TZID:America/New_York
X-MICROSOFT-CDO-TZID:10
BEGIN:STANDARD
DTSTART:20221106T060000
TZOFFSETFROM:-0400
TZOFFSETTO:-0500
TZNAME:EST
END:STANDARD
BEGIN:STANDARD
DTSTART:20231105T060000
TZOFFSETFROM:-0400
TZOFFSETTO:-0500
TZNAME:EST
END:STANDARD
BEGIN:DAYLIGHT
DTSTART:20230312T070000
TZOFFSETFROM:-0500
TZOFFSETTO:-0400
TZNAME:EDT
END:DAYLIGHT
END:VTIMEZONE
BEGIN:VEVENT
UID:cb7dac2a-b502-43e3-9d79-b705ca778d43
DTSTAMP:20230628T133737Z
SUMMARY:WoT Testing
DTSTART;TZID=America/New_York:20230705T090000
DTEND;TZID=America/New_York:20230705T100000
DESCRIPTION:https://www.w3.org/events/meetings/cb7dac2a-b502-43e3-9d79-b705
 ca778d43/20230705T090000/\n\nSince main call will extend into this timeslo
 t\, and no more testing is needed for the current charter\, this session w
 ill be cancelled.\n\nThe [WoT Plugfest/Testing task force](https://www.w3.
 org/WoT/IG/wiki/PlugFest_WebConf) is responsible for organizing the Web of
  Things (WoT) Plugfests and also for organizing general testing procedures
 \, data collection\, and implementation report tooling for WoT deliverable
 s.\n\n'''Note:''' We used to reused the WebEx coordinate for the WoT main 
 call for the Testing call\, but a dedicated Zoom call has been generated f
 or the Testing call.
STATUS:CANCELLED
CREATED:20230628T133736Z
LAST-MODIFIED:20230628T133737Z
SEQUENCE:2
ORGANIZER;CN=W3C Calendar;PARTSTAT=ACCEPTED;ROLE=NON-PARTICIPANT:mailto:nor
 eply@w3.org
ATTENDEE;CUTYPE=GROUP;ROLE=OPT-PARTICIPANT;RSVP=FALSE;CN=Web of Things Inte
 rest Group:mailto:public-wot-ig@w3.org
ATTENDEE;CUTYPE=GROUP;ROLE=OPT-PARTICIPANT;RSVP=FALSE;CN=Web of Things Work
 ing Group:mailto:public-wot-wg@w3.org
LOCATION:Zoom
RECURRENCE-ID;TZID=America/New_York:20230705T090000
END:VEVENT
END:VCALENDAR
