BEGIN:VCALENDAR
VERSION:2.0
PRODID:-//Sabre//Sabre VObject 4.5.8//EN
CALSCALE:GREGORIAN
LAST-MODIFIED:20220428T182417Z
BEGIN:VTIMEZONE
TZID:America/Los_Angeles
X-MICROSOFT-CDO-TZID:13
BEGIN:STANDARD
DTSTART:20211107T090000
TZOFFSETFROM:-0700
TZOFFSETTO:-0800
TZNAME:PST
END:STANDARD
BEGIN:STANDARD
DTSTART:20221106T090000
TZOFFSETFROM:-0700
TZOFFSETTO:-0800
TZNAME:PST
END:STANDARD
BEGIN:DAYLIGHT
DTSTART:20220313T100000
TZOFFSETFROM:-0800
TZOFFSETTO:-0700
TZNAME:PDT
END:DAYLIGHT
END:VTIMEZONE
BEGIN:VEVENT
UID:caa84703-c666-47c3-a42f-e106a4052871
DTSTAMP:20220428T182417Z
SUMMARY:ARIA Deep Dive: Open UI catch up
DTSTART;TZID=America/Los_Angeles:20220428T090000
DTEND;TZID=America/Los_Angeles:20220428T100000
DESCRIPTION:https://www.w3.org/events/meetings/caa84703-c666-47c3-a42f-e106
 a4052871/\n\n\n\nAgenda\n\n* What is the overall process for group collabo
 ration?\n    * what do OpenUI anticipate needing our assistance / feedback
  on\n    * communication mechanisms\n* How can each group more effectively
  help the other?\n    * Gaps in ARIA which need filling?\n    * Things ARI
 A is working on that need prototypes?
STATUS:CONFIRMED
CREATED:20220412T171854Z
LAST-MODIFIED:20220428T182417Z
SEQUENCE:2
ORGANIZER;CN=W3C Calendar;PARTSTAT=ACCEPTED;ROLE=NON-PARTICIPANT:mailto:nor
 eply@w3.org
ATTENDEE;CUTYPE=GROUP;ROLE=OPT-PARTICIPANT;RSVP=FALSE;CN=Accessible Rich In
 ternet Applications Working Group:mailto:public-aria@w3.org
END:VEVENT
END:VCALENDAR
