BEGIN:VCALENDAR
VERSION:2.0
PRODID:-//Sabre//Sabre VObject 4.5.8//EN
CALSCALE:GREGORIAN
LAST-MODIFIED:20240703T160842Z
BEGIN:VTIMEZONE
TZID:America/New_York
X-MICROSOFT-CDO-TZID:10
BEGIN:STANDARD
DTSTART:20231105T060000
TZOFFSETFROM:-0400
TZOFFSETTO:-0500
TZNAME:EST
END:STANDARD
BEGIN:STANDARD
DTSTART:20241103T060000
TZOFFSETFROM:-0400
TZOFFSETTO:-0500
TZNAME:EST
END:STANDARD
BEGIN:DAYLIGHT
DTSTART:20240310T070000
TZOFFSETFROM:-0500
TZOFFSETTO:-0400
TZNAME:EDT
END:DAYLIGHT
END:VTIMEZONE
BEGIN:VEVENT
UID:c9d3c6dc-305d-4ab8-9c97-c3c3faf06240
DTSTAMP:20240703T160842Z
SUMMARY:VCWG Meeting
DTSTART;TZID=America/New_York:20240703T110000
DTEND;TZID=America/New_York:20240703T120000
DESCRIPTION:https://www.w3.org/events/meetings/c9d3c6dc-305d-4ab8-9c97-c3c3
 faf06240/20240703T110000/\n\nThe regular meeting for the Verifiable Creden
 tials Working Group.\n\nAgenda\n\n### Date and Time:\nWednesday 03 Jul 202
 4\nTime: 11:00 AM Boston (60min)\nLocal date/time link: https://www.timean
 ddate.com/worldclock/fixedtime.html?msg=VCWG+Meeting&iso=20240703T11&p1=43
 &ah=1\n\n### SPECIAL NOTE\, if any:\n\n\n### Scribe list: \nPaulD\, GabeC\
 , GregB\, JAndrieu\, DmitriZ\, Mahmoud\, DavidL\, JennieM\, AnilJ\, PhilL\
 , DaveL\, ManuS\, MikeJones\, BenY\, WesleyS\, KDean\, DavidC\n\n### Meeti
 ng Chair:\nBrent Zundel\n\n### Topics (time)\n1-Agenda Review\, Introducti
 ons  (5 min)\n2-EBSI and termsOfUse [1] (10 min)\n3-VCDM Issue Processing 
 [2] (15 min)\n4-Controller Document [3] (25 min)\n\n#### Links\n[1] https:
 //github.com/w3c/vc-data-model/pull/1498\n[2] https://github.com/w3c/vc-da
 ta-model/issues?q=is%3Aissue+is%3Aopen+-label%3Afuture+sort%3Aupdated-asc\
 n[3] https://github.com/w3c/vc-data-model/pulls\n\n### Issues marked pendi
 ng close:\nAs of the time this email was sent\, the following issues and P
 Rs were marked 'pending close':\n\nThere are no pending close issues\n\nFo
 r an up to date list of the current set of 'pending close' issues\, please
  see: \nhttps://github.com/w3c/vc-data-model/issues?q=is%3Aissue+is%3Aopen
 +sort%3Aupdated-asc+label%3A%22pending+close%22
STATUS:CONFIRMED
CREATED:20240702T192806Z
LAST-MODIFIED:20240703T160842Z
SEQUENCE:4
ORGANIZER;CN=W3C Calendar;PARTSTAT=ACCEPTED;ROLE=NON-PARTICIPANT:mailto:nor
 eply@w3.org
ATTENDEE;CUTYPE=GROUP;ROLE=OPT-PARTICIPANT;RSVP=FALSE;CN=Verifiable Credent
 ials Working Group:mailto:public-vc-wg@w3.org
RECURRENCE-ID;TZID=America/New_York:20240703T110000
END:VEVENT
END:VCALENDAR
