BEGIN:VCALENDAR
VERSION:2.0
PRODID:-//Sabre//Sabre VObject 4.5.8//EN
CALSCALE:GREGORIAN
LAST-MODIFIED:20241017T071236Z
BEGIN:VTIMEZONE
TZID:Etc/UTC
BEGIN:STANDARD
DTSTART:20231021T150000
TZOFFSETFROM:+0000
TZOFFSETTO:+0000
TZNAME:UTC
END:STANDARD
END:VTIMEZONE
BEGIN:VEVENT
UID:c93f0fd4-e538-43ea-8aaf-dcc97d61ad3c
DTSTAMP:20241017T071236Z
SUMMARY:WebRTC WG October call
DTSTART;TZID=Etc/UTC:20241015T150000
DTEND;TZID=Etc/UTC:20241015T170000
DESCRIPTION:https://www.w3.org/events/meetings/c93f0fd4-e538-43ea-8aaf-dcc9
 7d61ad3c/\n\n\n\nAgenda: https://www.w3.org/2011/04/webrtc/wiki/October_15
 _2024
STATUS:TENTATIVE
CREATED:20240819T094048Z
LAST-MODIFIED:20241017T071236Z
SEQUENCE:0
ORGANIZER;CN=W3C Calendar;PARTSTAT=ACCEPTED;ROLE=NON-PARTICIPANT:mailto:nor
 eply@w3.org
ATTENDEE;CUTYPE=GROUP;ROLE=OPT-PARTICIPANT;RSVP=FALSE;CN=Web Real-Time Comm
 unications Working Group:mailto:public-webrtc@w3.org
END:VEVENT
END:VCALENDAR
