BEGIN:VCALENDAR
VERSION:2.0
PRODID:-//Sabre//Sabre VObject 4.5.8//EN
CALSCALE:GREGORIAN
LAST-MODIFIED:20240926T210011Z
BEGIN:VTIMEZONE
TZID:America/Los_Angeles
X-MICROSOFT-CDO-TZID:13
BEGIN:STANDARD
DTSTART:20231105T090000
TZOFFSETFROM:-0700
TZOFFSETTO:-0800
TZNAME:PST
END:STANDARD
BEGIN:STANDARD
DTSTART:20241103T090000
TZOFFSETFROM:-0700
TZOFFSETTO:-0800
TZNAME:PST
END:STANDARD
BEGIN:DAYLIGHT
DTSTART:20240310T100000
TZOFFSETFROM:-0800
TZOFFSETTO:-0700
TZNAME:PDT
END:DAYLIGHT
END:VTIMEZONE
BEGIN:VEVENT
UID:c8d5f3d3-7564-4a60-bc1b-ef349e9b74ad
DTSTAMP:20240926T210011Z
SUMMARY:W3C Chapters
DTSTART;TZID=America/Los_Angeles:20240926T140000
DTEND;TZID=America/Los_Angeles:20240926T180000
DESCRIPTION:https://www.w3.org/events/meetings/c8d5f3d3-7564-4a60-bc1b-ef34
 9e9b74ad/\n\n
STATUS:CONFIRMED
CREATED:20240625T150053Z
LAST-MODIFIED:20240926T210011Z
SEQUENCE:5
ORGANIZER;CN=W3C Calendar;PARTSTAT=ACCEPTED;ROLE=NON-PARTICIPANT:mailto:nor
 eply@w3.org
LOCATION:4 Concourse Level - Coronado
CATEGORIES:TPAC 2024,Group Meetings
END:VEVENT
END:VCALENDAR
