BEGIN:VCALENDAR
VERSION:2.0
PRODID:-//Sabre//Sabre VObject 4.5.8//EN
CALSCALE:GREGORIAN
LAST-MODIFIED:20220912T154858Z
BEGIN:VTIMEZONE
TZID:America/Vancouver
BEGIN:STANDARD
DTSTART:20211107T090000
TZOFFSETFROM:-0700
TZOFFSETTO:-0800
TZNAME:PST
END:STANDARD
BEGIN:STANDARD
DTSTART:20221106T090000
TZOFFSETFROM:-0700
TZOFFSETTO:-0800
TZNAME:PST
END:STANDARD
BEGIN:DAYLIGHT
DTSTART:20220313T100000
TZOFFSETFROM:-0800
TZOFFSETTO:-0700
TZNAME:PDT
END:DAYLIGHT
END:VTIMEZONE
BEGIN:VEVENT
UID:c8a7e74b-d2ae-49cc-80ab-21332d06b5ef
DTSTAMP:20220912T154858Z
SUMMARY:Audio Working Group
DTSTART;TZID=America/Vancouver:20220912T100000
DTEND;TZID=America/Vancouver:20220912T120000
DESCRIPTION:https://www.w3.org/events/meetings/c8a7e74b-d2ae-49cc-80ab-2133
 2d06b5ef/\n\n\n\nAgenda: http://bit.ly/audiowg-tpac2022
STATUS:CONFIRMED
CREATED:20220610T041530Z
LAST-MODIFIED:20220912T154858Z
SEQUENCE:5
ORGANIZER;CN=W3C Calendar;PARTSTAT=ACCEPTED;ROLE=NON-PARTICIPANT:mailto:nor
 eply@w3.org
ATTENDEE;CUTYPE=GROUP;ROLE=OPT-PARTICIPANT;RSVP=FALSE;CN=Audio Working Grou
 p:mailto:public-audio@w3.org
LOCATION:Beluga - 3rd floor Concourse
CATEGORIES:TPAC 2022,Group Meetings
END:VEVENT
END:VCALENDAR
