BEGIN:VCALENDAR
VERSION:2.0
PRODID:-//Sabre//Sabre VObject 4.5.8//EN
CALSCALE:GREGORIAN
LAST-MODIFIED:20221007T125639Z
BEGIN:VTIMEZONE
TZID:Europe/Berlin
X-MICROSOFT-CDO-TZID:4
BEGIN:STANDARD
DTSTART:20211031T010000
TZOFFSETFROM:+0200
TZOFFSETTO:+0100
TZNAME:CET
END:STANDARD
BEGIN:STANDARD
DTSTART:20221030T010000
TZOFFSETFROM:+0200
TZOFFSETTO:+0100
TZNAME:CET
END:STANDARD
BEGIN:DAYLIGHT
DTSTART:20220327T010000
TZOFFSETFROM:+0100
TZOFFSETTO:+0200
TZNAME:CEST
END:DAYLIGHT
END:VTIMEZONE
BEGIN:VEVENT
UID:c8802811-42b9-4089-a823-8671e3c3a227
DTSTAMP:20221007T125639Z
SUMMARY:Web of Things Community Meetup 1 - Digital Twins
DTSTART;TZID=Europe/Berlin:20221013T150000
DTEND;TZID=Europe/Berlin:20221013T160000
DESCRIPTION:https://www.w3.org/events/meetings/c8802811-42b9-4089-a823-8671
 e3c3a227/\n\nIn our next community meetup\, we are focusing on the topic o
 f digital twins. \n\nFirst\, we will listen to Thomas Jaeckle from the Ecl
 ipse Ditto project\, an open-source framework to help build digital twins 
 of devices connected to the Internet. Its [latest 3.0.0 release](https://w
 ww.eclipse.org/ditto/2022-09-28-release-announcement-300.html) also suppor
 ts W3C WoT Thing Descriptions and Thing Models.\n\nThen\, we will have a d
 iscussion panel on digital twins where anyone can present their ideas\, re
 quirements\, and applications with digital twins. We can see together how 
 the W3C Web of Things plays a role.\n\nAgenda\n\n1. Welcome\n2. [Thomas Ja
 eckle](https://github.com/thjaeckle): Eclipse Ditto (20 min)\n3. Questions
  (10 min)\n4. Discussion on Digital Twins\n6. Wrap up\n\nJoining Instructi
 ons: https://teams.microsoft.com/l/meetup-join/19%3ameeting_YjQyNTkxNDUtYz
 FlZS00ODJlLWEzYjItYjQzMjcwNTZkMzU2%40thread.v2/0?context=%7b%22Tid%22%3a%2
 238ae3bcd-9579-4fd4-adda-b42e1495d55a%22%2c%22Oid%22%3a%22d4a09f25-e37d-4f
 6d-95cf-a8c302d7e2d2%22%7d\n\nJoining Instructions\n\nIf the direct link d
 oes not work:\n- Go to: https://www.microsoft.com/en-us/microsoft-teams/jo
 in-a-meeting\n- Meeting ID: 330 566 808 451\n- Password: SCKFZ6\n\nChat\n\
 nhttps://irc.w3.org/?channels=#wot-cg
STATUS:CONFIRMED
CREATED:20221007T125610Z
LAST-MODIFIED:20221007T125639Z
SEQUENCE:1
ORGANIZER;CN=W3C Calendar;PARTSTAT=ACCEPTED;ROLE=NON-PARTICIPANT:mailto:nor
 eply@w3.org
ATTENDEE;CUTYPE=GROUP;ROLE=OPT-PARTICIPANT;RSVP=FALSE;CN=Web of Things Comm
 unity Group:mailto:public-web-of-things@w3.org
END:VEVENT
END:VCALENDAR
