BEGIN:VCALENDAR
VERSION:2.0
PRODID:-//Sabre//Sabre VObject 4.5.8//EN
CALSCALE:GREGORIAN
LAST-MODIFIED:20230509T140657Z
BEGIN:VTIMEZONE
TZID:Europe/Dublin
BEGIN:DAYLIGHT
DTSTART:20221030T010000
TZOFFSETFROM:+0100
TZOFFSETTO:+0000
TZNAME:GMT
END:DAYLIGHT
BEGIN:DAYLIGHT
DTSTART:20231029T010000
TZOFFSETFROM:+0100
TZOFFSETTO:+0000
TZNAME:GMT
END:DAYLIGHT
BEGIN:STANDARD
DTSTART:20230326T010000
TZOFFSETFROM:+0000
TZOFFSETTO:+0100
TZNAME:IST
END:STANDARD
END:VTIMEZONE
BEGIN:VEVENT
UID:c85247c3-1174-4d47-91ac-1b22ddf1f670
DTSTAMP:20230509T140657Z
SUMMARY:DPVCG Meeting Call 11 MAY 2023
DTSTART;TZID=Europe/Dublin:20230511T140000
DTEND;TZID=Europe/Dublin:20230511T150000
DESCRIPTION:https://www.w3.org/events/meetings/c85247c3-1174-4d47-91ac-1b22
 ddf1f670/\n\n\n\nAgenda: https://www.w3.org/events/meetings/c85247c3-1174-
 4d47-91ac-1b22ddf1f670\n\nAgenda\n\n1. Continued discussion on data breach
  records. See issue https://github.com/w3c/dpv/issues/64 for summary and d
 iscussion.\n2. ISO 27560 Consent Records\n3. ISO 29184 Privacy Notices\n4.
  AOB\n\nFor adding further items on the agenda\, please email the chair or
  the public mailing list\n\nIMPORTANT: Please note change in Zoom link for
  joinin\n\nJoining Instructions: https://dcu-ie.zoom.us/j/92216714069?pwd=
 NUIrZWFmWDF0bExhU3V2ak43L3lrUT09\n\nJoining Instructions\n\nIMPORTANT: Ple
 ase note change in Zoom link
STATUS:CONFIRMED
CREATED:20230509T140617Z
LAST-MODIFIED:20230509T140657Z
SEQUENCE:1
ORGANIZER;CN=W3C Calendar;PARTSTAT=ACCEPTED;ROLE=NON-PARTICIPANT:mailto:nor
 eply@w3.org
ATTENDEE;CUTYPE=GROUP;ROLE=OPT-PARTICIPANT;RSVP=FALSE;CN=Data Privacy Vocab
 ularies and Controls Community Group:mailto:public-dpvcg@w3.org
LOCATION:virtual
END:VEVENT
END:VCALENDAR
