BEGIN:VCALENDAR
VERSION:2.0
PRODID:-//Sabre//Sabre VObject 4.5.8//EN
CALSCALE:GREGORIAN
LAST-MODIFIED:20230403T235322Z
BEGIN:VTIMEZONE
TZID:America/Los_Angeles
X-MICROSOFT-CDO-TZID:13
BEGIN:STANDARD
DTSTART:20221106T090000
TZOFFSETFROM:-0700
TZOFFSETTO:-0800
TZNAME:PST
END:STANDARD
BEGIN:STANDARD
DTSTART:20231105T090000
TZOFFSETFROM:-0700
TZOFFSETTO:-0800
TZNAME:PST
END:STANDARD
BEGIN:DAYLIGHT
DTSTART:20230312T100000
TZOFFSETFROM:-0800
TZOFFSETTO:-0700
TZNAME:PDT
END:DAYLIGHT
END:VTIMEZONE
BEGIN:VEVENT
UID:c7c87b25-d906-4c64-b956-a3d9e267a8e3
DTSTAMP:20230403T235322Z
SUMMARY:CSS April 2023 Nesting breakout
DTSTART;TZID=America/Los_Angeles:20230405T090000
DTEND;TZID=America/Los_Angeles:20230405T100000
DESCRIPTION:https://www.w3.org/events/meetings/c7c87b25-d906-4c64-b956-a3d9
 e267a8e3/\n\nGo through agenda+ items for nesting\, starting with issues w
 e have not yet had on the agenda.\n\nhttps://github.com/w3c/csswg-drafts/i
 ssues?q=is%3Aopen+is%3Aissue+label%3AAgenda%2B+label%3Acss-nesting-1
STATUS:CONFIRMED
CREATED:20230403T235321Z
LAST-MODIFIED:20230403T235322Z
SEQUENCE:0
ORGANIZER;CN=W3C Calendar;PARTSTAT=ACCEPTED;ROLE=NON-PARTICIPANT:mailto:nor
 eply@w3.org
ATTENDEE;CUTYPE=GROUP;ROLE=OPT-PARTICIPANT;RSVP=FALSE;CN=Cascading Style Sh
 eets (CSS) Working Group:mailto:www-style@w3.org
LOCATION:WebEx
END:VEVENT
END:VCALENDAR
