BEGIN:VCALENDAR
VERSION:2.0
PRODID:-//Sabre//Sabre VObject 4.5.8//EN
CALSCALE:GREGORIAN
LAST-MODIFIED:20260211T155028Z
BEGIN:VTIMEZONE
TZID:America/Los_Angeles
X-MICROSOFT-CDO-TZID:13
BEGIN:DAYLIGHT
DTSTART:20250309T100000
TZOFFSETFROM:-0800
TZOFFSETTO:-0700
TZNAME:PDT
END:DAYLIGHT
BEGIN:DAYLIGHT
DTSTART:20260308T100000
TZOFFSETFROM:-0800
TZOFFSETTO:-0700
TZNAME:PDT
END:DAYLIGHT
BEGIN:STANDARD
DTSTART:20251102T090000
TZOFFSETFROM:-0700
TZOFFSETTO:-0800
TZNAME:PST
END:STANDARD
END:VTIMEZONE
BEGIN:VEVENT
UID:c779f79a-c505-44cd-a84d-6dff9cdf9fa3
DTSTAMP:20260211T155028Z
SUMMARY:ARIA Editors (2nd week)
DTSTART;TZID=America/Los_Angeles:20260211T100000
DTEND;TZID=America/Los_Angeles:20260211T110000
DESCRIPTION:https://www.w3.org/events/meetings/c779f79a-c505-44cd-a84d-6dff
 9cdf9fa3/20260211T100000/\n\nInviting Steve for discussion of next steps f
 or Using ARIA document.\n\nFull meeting agenda will be sent one or two day
 s before the meeting.\n\nAgenda: https://github.com/orgs/w3c/projects/188/
 views/2\n\nAgenda\n\nNo agenda / bring your own agenda today!
STATUS:CONFIRMED
CREATED:20260211T155027Z
LAST-MODIFIED:20260211T155028Z
SEQUENCE:5
ORGANIZER;CN=W3C Calendar;PARTSTAT=ACCEPTED;ROLE=NON-PARTICIPANT:mailto:nor
 eply@w3.org
ATTENDEE;CUTYPE=GROUP;ROLE=OPT-PARTICIPANT;RSVP=FALSE;CN=ARIA Editors:mailt
 o:public-aria-editors@w3.org
RECURRENCE-ID;TZID=America/Los_Angeles:20260211T100000
END:VEVENT
END:VCALENDAR
