BEGIN:VCALENDAR
VERSION:2.0
PRODID:-//Sabre//Sabre VObject 4.5.8//EN
CALSCALE:GREGORIAN
LAST-MODIFIED:20251103T174403Z
BEGIN:VTIMEZONE
TZID:Asia/Tokyo
X-MICROSOFT-CDO-TZID:20
BEGIN:STANDARD
DTSTART:20241118T000000
TZOFFSETFROM:+0900
TZOFFSETTO:+0900
TZNAME:JST
END:STANDARD
END:VTIMEZONE
BEGIN:VEVENT
UID:c73e9796-940b-4df4-9c86-eb04a8da1abc
DTSTAMP:20251103T174403Z
SUMMARY:Cascading Style Sheets (CSS) Working Group
DTSTART;TZID=Asia/Tokyo:20251113T090000
DTEND;TZID=Asia/Tokyo:20251113T164500
DESCRIPTION:https://www.w3.org/events/meetings/c73e9796-940b-4df4-9c86-eb04
 a8da1abc/\n\n
STATUS:CONFIRMED
CREATED:20250716T142237Z
LAST-MODIFIED:20251103T174403Z
SEQUENCE:9
ORGANIZER;CN=W3C Calendar;PARTSTAT=ACCEPTED;ROLE=NON-PARTICIPANT:mailto:nor
 eply@w3.org
ATTENDEE;CUTYPE=GROUP;ROLE=OPT-PARTICIPANT;RSVP=FALSE;CN=Cascading Style Sh
 eets (CSS) Working Group:mailto:www-style@w3.org
LOCATION:Floor 5 - 502
CATEGORIES:TPAC 2025,Group Meetings
END:VEVENT
END:VCALENDAR
