BEGIN:VCALENDAR
VERSION:2.0
PRODID:-//Sabre//Sabre VObject 4.5.8//EN
CALSCALE:GREGORIAN
LAST-MODIFIED:20231017T104153Z
BEGIN:VTIMEZONE
TZID:America/Los_Angeles
X-MICROSOFT-CDO-TZID:13
BEGIN:STANDARD
DTSTART:20221106T090000
TZOFFSETFROM:-0700
TZOFFSETTO:-0800
TZNAME:PST
END:STANDARD
BEGIN:STANDARD
DTSTART:20231105T090000
TZOFFSETFROM:-0700
TZOFFSETTO:-0800
TZNAME:PST
END:STANDARD
BEGIN:DAYLIGHT
DTSTART:20230312T100000
TZOFFSETFROM:-0800
TZOFFSETTO:-0700
TZNAME:PDT
END:DAYLIGHT
END:VTIMEZONE
BEGIN:VEVENT
UID:c651b2ef-2ac8-4aeb-a05e-d2ccf41858d5
DTSTAMP:20231017T104153Z
SUMMARY:Changed date: Immersive Web Group Calls
DTSTART;TZID=America/Los_Angeles:20231017T120000
DTEND;TZID=America/Los_Angeles:20231017T130000
DESCRIPTION:https://www.w3.org/events/meetings/c651b2ef-2ac8-4aeb-a05e-d2cc
 f41858d5/20231017T120000/\n\nHi everyone\, \n\nChanging the next meeting d
 ate to next week instead of October 31st. Hope it works out for all of you
 .\n\nNew zoom link from 2023/Aug. See W3C events calendar or invitation em
 ail.\nPhone numbers are in calendar file.\n\nThanks\,\nChairs\n\nAgenda: h
 ttps://github.com/immersive-web/administrivia/blob/main/meetings/cg/2023-1
 0-17-Immersive_Web_Community_Group_Teleconference-agenda.md
STATUS:CONFIRMED
CREATED:20231017T104153Z
LAST-MODIFIED:20231017T104153Z
SEQUENCE:4
ORGANIZER;CN=W3C Calendar;PARTSTAT=ACCEPTED;ROLE=NON-PARTICIPANT:mailto:nor
 eply@w3.org
ATTENDEE;CUTYPE=GROUP;ROLE=OPT-PARTICIPANT;RSVP=FALSE;CN=Immersive Web Comm
 unity Group:mailto:public-immersive-web@w3.org
ATTENDEE;CUTYPE=GROUP;ROLE=OPT-PARTICIPANT;RSVP=FALSE;CN=Immersive Web Work
 ing Group:mailto:public-immersive-web-wg@w3.org
LOCATION:Teleconference
RECURRENCE-ID;TZID=America/Los_Angeles:20231017T120000
END:VEVENT
END:VCALENDAR
