BEGIN:VCALENDAR
VERSION:2.0
PRODID:-//Sabre//Sabre VObject 4.5.8//EN
CALSCALE:GREGORIAN
LAST-MODIFIED:20220804T044854Z
BEGIN:VTIMEZONE
TZID:America/New_York
X-MICROSOFT-CDO-TZID:10
BEGIN:STANDARD
DTSTART:20211107T060000
TZOFFSETFROM:-0400
TZOFFSETTO:-0500
TZNAME:EST
END:STANDARD
BEGIN:STANDARD
DTSTART:20221106T060000
TZOFFSETFROM:-0400
TZOFFSETTO:-0500
TZNAME:EST
END:STANDARD
BEGIN:DAYLIGHT
DTSTART:20220313T070000
TZOFFSETFROM:-0500
TZOFFSETTO:-0400
TZNAME:EDT
END:DAYLIGHT
END:VTIMEZONE
BEGIN:VEVENT
UID:c5abcc63-337b-4ebb-97af-7cc2fb63de11
DTSTAMP:20220804T044854Z
SUMMARY:VCWG Meeting
DTSTART;TZID=America/New_York:20220803T150000
DTEND;TZID=America/New_York:20220803T160000
DESCRIPTION:https://www.w3.org/events/meetings/c5abcc63-337b-4ebb-97af-7cc2
 fb63de11/20220803T150000/\n\nThe regular meeting for the Verifiable Creden
 tials Working Group.\nMeeting time is friendly for participants in Asia/Am
 ericas.\n\nAgenda\n\n### Date and Time:\nWednesday 03 Aug 2022\nTime: 3:00
  PM Boston (60min)\nLocal date/time link: https://www.timeanddate.com/worl
 dclock/fixedtime.html?msg=VCWG+Meeting&iso=20220803T15&p1=43&ah=1\n\n### S
 PECIAL NOTE\, if any:\n\n\n### Scribe list: \nGNatran\, DmitriZ\, KyleD\, 
 Markus\, CharlesL\, DavidC\, RGrant\, Orie\, JAndrieu\, MahmoudA\, DaveL\,
  MikeJones\, Oliver\, Justin\, ScottH\, Joachim\, Logan\, Jeremie\, DavidW
 \, ShawnB\, RobinB\, ManuS\, Orie\, Kevin\, AndrewW\, GabeC\, PhilA\n\n###
  Meeting Chair:\nBrent Zundel\n\n### Topics (time)\n1-Agenda Review\, Intr
 oductions  (5 min)\n2-Echidna publishing resolution for VC Data Model  (5 
 min)\n3-Status Report: JWS 2020  (5 min)\n4-Status Report: VC-JWT [1] (10 
 min)\n5-Status Report: Data Integrity [2] (10 min)\n6-VC Data Model Issues
  - A Question of Relevance [3] (20 min)\n\n#### Links\n[1] https://github.
 com/w3c/vc-data-model/issues?q=is%3Aissue+is%3Aopen+sort%3Aupdated-asc+lab
 el%3Adata-integrity%3F\n[2] https://github.com/w3c/vc-data-model/issues?q=
 is%3Aissue+is%3Aopen+sort%3Aupdated-asc+label%3Adata-integrity%3F\n[3] htt
 ps://github.com/w3c/vc-data-model/issues?q=is%3Aissue+is%3Aopen+label%3Are
 levant%3F+sort%3Aupdated-asc\n\n### Issues marked pending close:\nAs of th
 e time this email was sent\, the following issues were marked 'pending clo
 se':\n\nIssue 790: https://github.com/w3c/vc-data-model/issues/790\nIssue 
 792: https://github.com/w3c/vc-data-model/issues/792\nIssue 796: https://g
 ithub.com/w3c/vc-data-model/issues/796\nIssue 799: https://github.com/w3c/
 vc-data-model/issues/799\nIssue 809: https://github.com/w3c/vc-data-model/
 issues/809\nIssue 811: https://github.com/w3c/vc-data-model/issues/811\nIs
 sue 813: https://github.com/w3c/vc-data-model/issues/813\nIssue 815: https
 ://github.com/w3c/vc-data-model/issues/815\nIssue 884: https://github.com/
 w3c/vc-data-model/issues/884\nIssue 885: https://github.com/w3c/vc-data-mo
 del/issues/885\nIssue 889: https://github.com/w3c/vc-data-model/issues/889
 \n\nFor an up to date list of the current set of 'pending close' issues\, 
 please see: \nhttps://github.com/w3c/vc-data-model/issues?q=is%3Aissue+is%
 3Aopen+sort%3Aupdated-asc+label%3A%22pending+close%22
STATUS:CONFIRMED
CREATED:20220801T155605Z
LAST-MODIFIED:20220804T044854Z
SEQUENCE:2
ORGANIZER;CN=W3C Calendar;PARTSTAT=ACCEPTED;ROLE=NON-PARTICIPANT:mailto:nor
 eply@w3.org
ATTENDEE;CUTYPE=GROUP;ROLE=OPT-PARTICIPANT;RSVP=FALSE;CN=Verifiable Credent
 ials Working Group:mailto:public-vc-wg@w3.org
RECURRENCE-ID;TZID=America/New_York:20220803T150000
END:VEVENT
END:VCALENDAR
