BEGIN:VCALENDAR
VERSION:2.0
PRODID:-//Sabre//Sabre VObject 4.5.8//EN
CALSCALE:GREGORIAN
LAST-MODIFIED:20220914T221207Z
BEGIN:VTIMEZONE
TZID:America/Vancouver
BEGIN:STANDARD
DTSTART:20211107T090000
TZOFFSETFROM:-0700
TZOFFSETTO:-0800
TZNAME:PST
END:STANDARD
BEGIN:STANDARD
DTSTART:20221106T090000
TZOFFSETFROM:-0700
TZOFFSETTO:-0800
TZNAME:PST
END:STANDARD
BEGIN:DAYLIGHT
DTSTART:20220313T100000
TZOFFSETFROM:-0800
TZOFFSETTO:-0700
TZNAME:PDT
END:DAYLIGHT
END:VTIMEZONE
BEGIN:VEVENT
UID:c587cd33-78b4-4b3e-ba76-42cd7e53ec54
DTSTAMP:20220914T221207Z
SUMMARY:Fenced Frames API
DTSTART;TZID=America/Vancouver:20220914T150000
DTEND;TZID=America/Vancouver:20220914T160000
DESCRIPTION:https://www.w3.org/events/meetings/c587cd33-78b4-4b3e-ba76-42cd
 7e53ec54/\n\nA new web API for framing web content in a manner that's isol
 ated from its embedder\n\nAgenda\n\n**Facilitators & speakers**: Dominic F
 arolino\, Shivani Sharma \n\n**Session type**: Brief talk with slides\, fo
 llowed by open discussion and opinion gathering\n\n**Summary**: A new web 
 API for framing web content in a manner that's isolated from its embedder\
 n\n**Goals**:\n- Make the community aware of fenced frames/its API shape\,
  discuss the difficulties in this area\, and and collect feedback from oth
 er engineers & partners\n\nJoining Instructions: https://us02web.zoom.us/j
 /6736011120?pwd=Njhqam13TWwrUzE2d0owRjF6Zlhqdz09\n\nChat\n\nhttps://irc.w3
 .org/?channels=%23fenced-frames
STATUS:CONFIRMED
CREATED:20220909T111659Z
LAST-MODIFIED:20220914T221207Z
SEQUENCE:1
ORGANIZER;CN=W3C Calendar;PARTSTAT=ACCEPTED;ROLE=NON-PARTICIPANT:mailto:nor
 eply@w3.org
ATTENDEE;CN=Leonardo Balter:mailto:leobalter@salesforce.com
ATTENDEE;CN=Christian Biesinger:mailto:cbiesinger@google.com
ATTENDEE;CN=Aykut Bulut:mailto:aykutb@google.com
ATTENDEE;CN=Judith Bush:mailto:idpro@grey-cat.com
ATTENDEE;CN=christin cai:mailto:christincai@tencent.com
ATTENDEE;CN=Brian Campbell:mailto:bcampbell@pingidentity.com
ATTENDEE;CN=Alex Cone:mailto:alex.cone@iabtechlab.com
ATTENDEE;CN=Domenic Denicola:mailto:d@domenic.me
ATTENDEE;CN=Nick Doty:mailto:ndoty@cdt.org
ATTENDEE;CN=David Ezell:mailto:dezell@conexxus.org
ATTENDEE;CN=Sam Goto:mailto:goto@google.com
ATTENDEE;CN=Yi Gu:mailto:yigu@google.com
ATTENDEE;CN=Charlie Harrison:mailto:csharrison@google.com
ATTENDEE;CN=Sarah Heimlich:mailto:sarahheimlich@google.com
ATTENDEE;CN=Richa Jain:mailto:richaj@fb.com
ATTENDEE;CN=Artur Janc:mailto:aaj@google.com
ATTENDEE;CN=Randell Jesup:mailto:rjesup@mozilla.com
ATTENDEE;CN=Josh Karlin:mailto:jkarlin@google.com
ATTENDEE;CN=Michael Kleber:mailto:kleber@google.com
ATTENDEE;CN=Alex Koshelev:mailto:koshelev@fb.com
ATTENDEE;CN=Camille Lamy:mailto:clamy@google.com
ATTENDEE;CN=Chris Lemmons:mailto:chris_lemmons@comcast.com
ATTENDEE;CN=Andy Luhrs:mailto:aluhrs@microsoft.com
ATTENDEE;CN=Brian May:mailto:imbmaydst@gmail.com
ATTENDEE;CN=Michael O'Neill:mailto:mike@baycloud.ie
ATTENDEE;CN=Gregorio Pellegrino:mailto:gregorio.pellegrino@fondazionelia.or
 g
ATTENDEE;CN=Simon Pieters:mailto:zcorpan@mozilla.com
ATTENDEE;CN=Daniel Rojas:mailto:darojas@google.com
ATTENDEE;CN=Sid Sahoo:mailto:sidsahoo@google.com
ATTENDEE;CN=Vincent Scheib:mailto:scheib@google.com
ATTENDEE;CN=Shivani Sharma:mailto:shivanisha@google.com
ATTENDEE;CN=Russell Stringham:mailto:rstringh@adobe.com
ATTENDEE;CN=Zachary Tan:mailto:tanzachary@google.com
ATTENDEE;CN=Sergey Tumakha:mailto:stumakha@microsoft.com
ATTENDEE;CN=Tom Van Goethem:mailto:tov@google.com
ATTENDEE;CN=Yoav Weiss:mailto:yoav@yoav.ws
ATTENDEE;CN=Jeffrey Yasskin:mailto:jyasskin@google.com
ATTENDEE;CN=Benjamin Young:mailto:byoung@bigbluehat.com
ATTENDEE;CN=Aram Zucker-Scharff:mailto:Aram.Zucker-Scharff@washpost.com
LOCATION:Parksville — North Tower 3rd floor
CATEGORIES:TPAC 2022,Breakout Sessions
END:VEVENT
END:VCALENDAR
