BEGIN:VCALENDAR
VERSION:2.0
PRODID:-//Sabre//Sabre VObject 4.5.8//EN
CALSCALE:GREGORIAN
LAST-MODIFIED:20260421T143716Z
BEGIN:VTIMEZONE
TZID:Europe/Zurich
BEGIN:STANDARD
DTSTART:20251026T010000
TZOFFSETFROM:+0200
TZOFFSETTO:+0100
TZNAME:CET
END:STANDARD
BEGIN:STANDARD
DTSTART:20261025T010000
TZOFFSETFROM:+0200
TZOFFSETTO:+0100
TZNAME:CET
END:STANDARD
BEGIN:DAYLIGHT
DTSTART:20260329T010000
TZOFFSETFROM:+0100
TZOFFSETTO:+0200
TZNAME:CEST
END:DAYLIGHT
END:VTIMEZONE
BEGIN:VEVENT
UID:c5855bad-fd18-45ce-973f-e0f716dd6bed
DTSTAMP:20260421T143716Z
SUMMARY:Joint WebAgents and WoT CG: Bi-weekly Call / Meetup 33
DTSTART;TZID=Europe/Zurich:20260424T160000
DTEND;TZID=Europe/Zurich:20260424T170000
DESCRIPTION:https://www.w3.org/events/meetings/c5855bad-fd18-45ce-973f-e0f7
 16dd6bed/20260424T160000/\n\nIn this special call\, we will have a joint m
 eeting between the Web of Things CG and the Autonomous Agents on the Web C
 G. Roman Binkert will hold a talk entitled "Interoperable Cyber-Physical M
 ulti-Agent Systems Through W3C Web of Things". He will introduce a framewo
 rk for bridging the gap between Multi-Agent Systems (MAS) and the physical
  world using Web of Things (WoT) standards. He will show how Thing Descrip
 tions (TDs) can serve as a standardized interface for autonomous agents\, 
 mapping AgentSpeak logic directly to Interaction Affordances (Properties\,
  Actions\, and Events).\n\nhttps://unisg.zoom.us/j/64308599055?pwd=agWlBOR
 U0621haUs2njKGpPkb80Ra2.1\n\nMeeting ID: 643 0859 9055\nPasscode: 940182\n
 \n---\n\nBiweekly call of the W3C Autonomous Agents on the Web (WebAgents)
  Community Group.\n\nFor more information about regular meetings\, see the
  [group's wiki](https://github.com/w3c-cg/webagents/wiki/Regular-CG-Meetin
 gs).\n\nAgenda: https://github.com/w3c-cg/webagents/wiki/Regular-CG-Meetin
 gs
STATUS:CONFIRMED
CREATED:20260412T210020Z
LAST-MODIFIED:20260421T143716Z
SEQUENCE:2
ORGANIZER;CN=W3C Calendar;PARTSTAT=ACCEPTED;ROLE=NON-PARTICIPANT:mailto:nor
 eply@w3.org
ATTENDEE;CUTYPE=GROUP;ROLE=OPT-PARTICIPANT;RSVP=FALSE;CN=Autonomous Agents 
 on the Web Community Group:mailto:public-webagents@w3.org
ATTENDEE;CUTYPE=GROUP;ROLE=OPT-PARTICIPANT;RSVP=FALSE;CN=Web of Things Comm
 unity Group:mailto:public-web-of-things@w3.org
RECURRENCE-ID;TZID=Europe/Zurich:20260424T160000
END:VEVENT
END:VCALENDAR
