BEGIN:VCALENDAR
VERSION:2.0
PRODID:-//Sabre//Sabre VObject 4.5.8//EN
CALSCALE:GREGORIAN
LAST-MODIFIED:20220913T193639Z
BEGIN:VTIMEZONE
TZID:America/Vancouver
BEGIN:STANDARD
DTSTART:20211107T090000
TZOFFSETFROM:-0700
TZOFFSETTO:-0800
TZNAME:PST
END:STANDARD
BEGIN:STANDARD
DTSTART:20221106T090000
TZOFFSETFROM:-0700
TZOFFSETTO:-0800
TZNAME:PST
END:STANDARD
BEGIN:DAYLIGHT
DTSTART:20220313T100000
TZOFFSETFROM:-0800
TZOFFSETTO:-0700
TZNAME:PDT
END:DAYLIGHT
END:VTIMEZONE
BEGIN:VEVENT
UID:c4fa2d8e-7aa3-415f-8792-483f92a85713
DTSTAMP:20220913T193639Z
SUMMARY:Math Working Group
DTSTART;TZID=America/Vancouver:20220914T090000
DTEND;TZID=America/Vancouver:20220914T120000
DESCRIPTION:https://www.w3.org/events/meetings/c4fa2d8e-7aa3-415f-8792-483f
 92a85713/\n\n## Overview\nThe Math WG is developing two recommendations:\n
 * MathML Core -- this is focused on defining a subset of MathML that is bo
 th widely used relatively easily implementable in current browsers. Igalia
  has worked with Google and developed MathML in Chromium to the point that
  they have filed an "Intent to Ship" request \n* MathML 4 -- this is a cle
 anup of the MathML 3 spec to align with Core and also to enhance the acces
 sibility of MathML.\n\nThe meeting is focused on the MathML 4 recommendati
 on.\n\nAgenda\n\n## Schedule\nAll times are approximate and depend upon th
 e number of questions that are asked/need to be answered. Times listed are
  Pacific Time (local time for TPAC)\n\n* 9:00am: general question and answ
 er for those who do not normally participate in MathML meetings\n* 9:20am:
  MathML & Media Types -- next steps\n* 9:30am: Deep dive into "intent" iss
 ues in an attempt to resolve them or at least better group them\n* 10:30am
 :  Break\n* 10:45am: Continue deep dive into "intent" issues\n* noon: Lunc
 h
STATUS:CONFIRMED
CREATED:20220731T143113Z
LAST-MODIFIED:20220913T193639Z
SEQUENCE:2
ORGANIZER;CN=W3C Calendar;PARTSTAT=ACCEPTED;ROLE=NON-PARTICIPANT:mailto:nor
 eply@w3.org
ATTENDEE;CUTYPE=GROUP;ROLE=OPT-PARTICIPANT;RSVP=FALSE;CN=Math Working Group
 :mailto:www-math@w3.org
LOCATION:Beluga - 3rd floor Concourse
CATEGORIES:TPAC 2022,Group Meetings
END:VEVENT
END:VCALENDAR
