BEGIN:VCALENDAR
VERSION:2.0
PRODID:-//Sabre//Sabre VObject 4.5.8//EN
CALSCALE:GREGORIAN
LAST-MODIFIED:20251008T004736Z
BEGIN:VTIMEZONE
TZID:America/Los_Angeles
X-MICROSOFT-CDO-TZID:13
BEGIN:STANDARD
DTSTART:20241103T090000
TZOFFSETFROM:-0700
TZOFFSETTO:-0800
TZNAME:PST
END:STANDARD
BEGIN:STANDARD
DTSTART:20251102T090000
TZOFFSETFROM:-0700
TZOFFSETTO:-0800
TZNAME:PST
END:STANDARD
BEGIN:DAYLIGHT
DTSTART:20250309T100000
TZOFFSETFROM:-0800
TZOFFSETTO:-0700
TZNAME:PDT
END:DAYLIGHT
END:VTIMEZONE
BEGIN:VEVENT
UID:c4bcdfe1-cd32-4d07-ab07-609ca3eee120
DTSTAMP:20251008T004736Z
SUMMARY:CCG — Data Integrity
DTSTART;TZID=America/Los_Angeles:20251023T070000
DTEND;TZID=America/Los_Angeles:20251023T080000
DESCRIPTION:https://www.w3.org/events/meetings/c4bcdfe1-cd32-4d07-ab07-609c
 a3eee120/20251024T070000/\n\n\n\nAgenda\n\nNOTE THE DATE CHANGE (one day e
 arlier than  normal)\n\nWe have a special guest for this meeting\, Andrea 
 Basso\, to speak with us about SQISign\, a new post-quantum digital signat
 ure scheme under consideration for standardization at NIST and which might
  be able to support small\, unlinkable post-quantum digital signatures. Jo
 in us to learn more as we determine how to integrate this post-quantum sig
 nature scheme with the W3C Data Integrity work.\n\nJoining Instructions: h
 ttps://meet.google.com/gfr-xkgz-pox\n\nJoining Instructions\n\nGoogle Meet
  joining info\nVideo call link: https://meet.google.com/gfr-xkgz-pox\nOr d
 ial: ‪(US) +1 402-852-5270‬ PIN: ‪765 955 926‬#\nMore phone number
 s: https://tel.meet/gfr-xkgz-pox?pin=5217040545477
STATUS:CONFIRMED
CREATED:20251008T004239Z
LAST-MODIFIED:20251008T004736Z
SEQUENCE:7
ORGANIZER;CN=W3C Calendar;PARTSTAT=ACCEPTED;ROLE=NON-PARTICIPANT:mailto:nor
 eply@w3.org
ATTENDEE;CUTYPE=GROUP;ROLE=OPT-PARTICIPANT;RSVP=FALSE;CN=Credentials Commun
 ity Group:mailto:public-credentials@w3.org
RECURRENCE-ID;TZID=America/Los_Angeles:20251024T070000
END:VEVENT
END:VCALENDAR
